BEGIN:VCALENDAR
VERSION:2.0
PRODID:-//Collage Arts - ECPv6.15.20//NONSGML v1.0//EN
CALSCALE:GREGORIAN
METHOD:PUBLISH
X-ORIGINAL-URL:https://www.collage-arts.org
X-WR-CALDESC:Events for Collage Arts
REFRESH-INTERVAL;VALUE=DURATION:PT1H
X-Robots-Tag:noindex
X-PUBLISHED-TTL:PT1H
BEGIN:VTIMEZONE
TZID:Europe/London
BEGIN:DAYLIGHT
TZOFFSETFROM:+0000
TZOFFSETTO:+0100
TZNAME:BST
DTSTART:20210328T010000
END:DAYLIGHT
BEGIN:STANDARD
TZOFFSETFROM:+0100
TZOFFSETTO:+0000
TZNAME:GMT
DTSTART:20211031T010000
END:STANDARD
BEGIN:DAYLIGHT
TZOFFSETFROM:+0000
TZOFFSETTO:+0100
TZNAME:BST
DTSTART:20220327T010000
END:DAYLIGHT
BEGIN:STANDARD
TZOFFSETFROM:+0100
TZOFFSETTO:+0000
TZNAME:GMT
DTSTART:20221030T010000
END:STANDARD
BEGIN:DAYLIGHT
TZOFFSETFROM:+0000
TZOFFSETTO:+0100
TZNAME:BST
DTSTART:20230326T010000
END:DAYLIGHT
BEGIN:STANDARD
TZOFFSETFROM:+0100
TZOFFSETTO:+0000
TZNAME:GMT
DTSTART:20231029T010000
END:STANDARD
BEGIN:DAYLIGHT
TZOFFSETFROM:+0000
TZOFFSETTO:+0100
TZNAME:BST
DTSTART:20240331T010000
END:DAYLIGHT
BEGIN:STANDARD
TZOFFSETFROM:+0100
TZOFFSETTO:+0000
TZNAME:GMT
DTSTART:20241027T010000
END:STANDARD
END:VTIMEZONE
BEGIN:VEVENT
DTSTART;TZID=Europe/London:20230721T193000
DTEND;TZID=Europe/London:20230721T213000
DTSTAMP:20260422T225729
CREATED:20230522T102713Z
LAST-MODIFIED:20230522T102713Z
UID:3717-1689967800-1689975000@www.collage-arts.org
SUMMARY:BYSTANDERS
DESCRIPTION:Set in the heart of the Caribbean home\, we meet K and M\, a couple living in a busy city. K’s intuition is telling her something is going on with her partner M. He’s been distant\, moody\, and withdrawn. In her desperation to find out what’s going on\, K discovers a shocking revelation about her long-term partner\, as she finds herself trying to conceal the true extent of M’s behavior. This is a thriller and dark comedy that was first shown at the Black Writers Collective showcase in Southwark Playhouse. This story explores love\, loss\, and generational trauma\, through the lens of Caribbean spirituality. Bystanders will be on between 21-23 July at McQueen’s theatre\, wood green. Tickets are priced between £16.50-£18.50 and they are available at The Night Journey Theatre Website.
URL:https://www.collage-arts.org/event/bystanders/
LOCATION:McQueens Theatre\, 4 Coburg Rd\, London\, N22 6UJ\, United Kingdom
CATEGORIES:Theatre
ATTACH;FMTTYPE=image/jpeg:https://www.collage-arts.org/wp-content/uploads/2023/05/PSX_20230507_200059-1-scaled.jpg
END:VEVENT
BEGIN:VEVENT
DTSTART;TZID=Europe/London:20220911T120000
DTEND;TZID=Europe/London:20220911T170000
DTSTAMP:20260422T225729
CREATED:20220803T141703Z
LAST-MODIFIED:20220909T143509Z
UID:2900-1662897600-1662915600@www.collage-arts.org
SUMMARY:POSTPONED - Wood Green Community Fun Day
DESCRIPTION:** UPDATE ON 9 SEPTEMBER ** \nAs a mark of respect to the Queen and the news of her passing\, the Wood Green Community Fun Day has been postponed and will take place at a later time. We will keep you updated on new plans/date in due course. \nPlease read the official statement from Future Wood Green BID. \n============== \nJoin us in Wood Green at Ducketts Common for a fun day out full of activities! \n**Collage Arts are coordinating the main stage and arts activities at the Wood Green Community Fun Day at Ducketts Common\, in partnership with Future Wood Green BID**. \n**FREE to Attend Event – Ducketts Common N22** (close to Turnpike Lane tube station). \nDiscover your local arts scene and enjoy a family fun day! \nDive right in and get creative with the many different arts and crafts workshops that will keep your little ones entertained! ( and maybe you too! ) \nRelax and enjoy as the community comes together to share and explore a day full of art and fun! \nDrumming group\, Children’s theatre\, Arts and crafts workshops\, DJ set\, Live music stage\, Food stalls\, and much more. \nWHAT’S ON! \nMUSIC STAGE\nVVN and the ORIGIN (1pm)\nTomorrow’s Warriors – JOTI Quintet (2.30pm)\nJames Riley ROOFTOP ASSEMBLY (4.15pm) \n  \nTHE ARTS TENT\nRachel’s Arts Club and making workshops (12.45pm\, 2.45pm).\nThe Cowfoot Prince storytelling (1.45pm\, 3.45pm). \n  \nOUTDOOR MURAL PAINTING with YANA – Make Your City Grow! (throughout) \n  \nDRUMMING and ACROBATICS with The Cowfoot Prince and UK African Acrobats (Drumming 12 noon\, Acrobatics 2.30pm\, 4.30pm) \n  \nT-REX THE HUGE DINOSAUR! and more …. \n  \nA whole variety of food stalls to pick from! \nA fun day out that the whole family will enjoy! \nA chance to make new memories with loved ones or maybe with someone new! \nFree entry – All welcome – Family friendly. \nRegister your interest and RSVP. \n(bit.ly/wgfunday)\nwww.wgcommunityday.co.uk \nSunday 11th September! Save the Date! \n  \n  \n  \n 
URL:https://www.collage-arts.org/event/wood-green-community-fun-day/
CATEGORIES:Music,Theatre,Workshops,Collage Kids,Community
ATTACH;FMTTYPE=image/png:https://www.collage-arts.org/wp-content/uploads/2022/08/Wood-Green-Community-Fun-Day-V3.png
END:VEVENT
BEGIN:VEVENT
DTSTART;TZID=Europe/London:20220703T200000
DTEND;TZID=Europe/London:20220703T223000
DTSTAMP:20260422T225729
CREATED:20220620T084754Z
LAST-MODIFIED:20220620T084754Z
UID:2705-1656878400-1656887400@www.collage-arts.org
SUMMARY:Revolution - 10th anniversary special
DESCRIPTION:A night of music\, theatre and spoken word organised by Ché Walker. \nStars of stage and screen return to Collage Arts for a night of music\, theatre and spoken word\, in support of Collage Voices projects providing performing arts training for young people facing economic challenges. \nJoin the Revolution on July 3! \n8pm kickoff \nTenth Anniversary Special! \nPerformances by: \nGrainne Dromgoole \nPaxina Tuvuka \nMatilda Bailes \nSimeon Hammond Dallas \nBruce Mississippi Johnson \nEsther Foga \nJohn Etheridge \nVimala Rowe \nNardia Ruth \nMartina Laird \nDorian Ford \nAlice Mae Walker \nRocio Rodriguez- Innis \nFrancesca Gilbert \nwww.justgiving.com/CollageArts \nwww.collage-arts.org \nBook your tickets in advance via the ticket link. \nMAAD\, 4 Coburg Road\, London N22 6UJ. Tickets: £20.
URL:https://www.collage-arts.org/event/revolution-10th-anniversary-special/
LOCATION:Karamel N22\, 4 Coburg Road\, London\, N22 6UJ\, United Kingdom
CATEGORIES:Music,Theatre
ATTACH;FMTTYPE=image/png:https://www.collage-arts.org/wp-content/uploads/2022/06/REVOLUTION-10TH-ANNIVERSARY-EDITION.png
END:VEVENT
END:VCALENDAR