BEGIN:VCALENDAR
VERSION:2.0
PRODID:-//Collage Arts - ECPv6.15.20//NONSGML v1.0//EN
CALSCALE:GREGORIAN
METHOD:PUBLISH
X-WR-CALNAME:Collage Arts
X-ORIGINAL-URL:https://www.collage-arts.org
X-WR-CALDESC:Events for Collage Arts
REFRESH-INTERVAL;VALUE=DURATION:PT1H
X-Robots-Tag:noindex
X-PUBLISHED-TTL:PT1H
BEGIN:VTIMEZONE
TZID:Europe/London
BEGIN:DAYLIGHT
TZOFFSETFROM:+0000
TZOFFSETTO:+0100
TZNAME:BST
DTSTART:20240331T010000
END:DAYLIGHT
BEGIN:STANDARD
TZOFFSETFROM:+0100
TZOFFSETTO:+0000
TZNAME:GMT
DTSTART:20241027T010000
END:STANDARD
BEGIN:DAYLIGHT
TZOFFSETFROM:+0000
TZOFFSETTO:+0100
TZNAME:BST
DTSTART:20250330T010000
END:DAYLIGHT
BEGIN:STANDARD
TZOFFSETFROM:+0100
TZOFFSETTO:+0000
TZNAME:GMT
DTSTART:20251026T010000
END:STANDARD
BEGIN:DAYLIGHT
TZOFFSETFROM:+0000
TZOFFSETTO:+0100
TZNAME:BST
DTSTART:20260329T010000
END:DAYLIGHT
BEGIN:STANDARD
TZOFFSETFROM:+0100
TZOFFSETTO:+0000
TZNAME:GMT
DTSTART:20261025T010000
END:STANDARD
END:VTIMEZONE
BEGIN:VEVENT
DTSTART;TZID=Europe/London:20250606T200000
DTEND;TZID=Europe/London:20250606T223000
DTSTAMP:20260423T111709
CREATED:20250520T102909Z
LAST-MODIFIED:20250520T102909Z
UID:5451-1749240000-1749249000@www.collage-arts.org
SUMMARY:Poetry and Poppadums with Simon Munnery
DESCRIPTION:We invite you to a side-splitting evening of comedy and musings in the warm & welcoming Karamel! \nFeaturing Comedy award winning SIMON MUNNERY \n‘A master of fun flights of fancy from a true maverick’ – London Evening Standard\, \nA disarmingly casual yet playfully brilliant comedian/poet\, It’s a pleasure to see him live.’ – Fest Magazine \nHis highly inventive mix of Poetry\, stand-up and very well aimed randomness has made him an award winner on the global circuit. \nWith Special Guests \nKEITH JARRETT ‘His easy warmth & charisma primes the audience for a breadth of content & pitch\, bridging personal & political\, the comic & the tragic ‘ – Sabotage Mag \nJULIAN FOX -”Tinder dry humour\, endearing\, engrossing & wholly entertaining’ – The Guardian \nHosted by Paul Lyalls ‘Always charismatic’- Time Out Magazine \nDoors open at 6.30pm (for dining – see below). \nShow starts at 8pm. \nSuitable for mature 14s and older. \nTickets £10 can be bought from www.musicglue.com/karamel Booking is advised to avoid disappointment. \nDining (optional) in the Karamel restaurant from 6.30pm-8pm. Please book a table by emailing karamel8775@gmail.com with your group size and arrival time. \nKaramel is a vegan establishment at 4 Coburg Road\, London N22 6UJ. (10 mins walk Wood Green tube\, free parking outside from 6.30pm).
URL:https://www.collage-arts.org/event/poetry-and-poppadums-with-simon-munnery/
LOCATION:Karamel N22\, 4 Coburg Rd\, Wood Green\, London\, N22 6UJ\, United Kingdom
CATEGORIES:Theatre
ATTACH;FMTTYPE=image/png:https://www.collage-arts.org/wp-content/uploads/2025/05/June-25-2.png
ORGANIZER;CN="Karamel N22":MAILTO:karamel8775@gmail.com
END:VEVENT
BEGIN:VEVENT
DTSTART;TZID=Europe/London:20250629T183000
DTEND;TZID=Europe/London:20250629T210000
DTSTAMP:20260423T111709
CREATED:20250608T185900Z
LAST-MODIFIED:20250608T185900Z
UID:5466-1751221800-1751230800@www.collage-arts.org
SUMMARY:REVOLUTION fundraiser for Collage Voices
DESCRIPTION:Stars of stage and screen come together in support of Collage Voices. Hosted by Ché Walker. Do not miss it! \nTickets £20. We offer a concession price for those who need it\, please email voices@collage-arts.org \nLine up: – Ako Mitchell – DJ Dub – Dorian Ford and Mao Yamada – Ezra Escobar – Martina Laird – Nardia Ruth – Otis Cameron Carr – Rakie Ayola – Renée Castle – Rocio Rodriguez-Inniss and Kathryn Reed – Ronald Samm – Uchenna Ngwe – Vimala – Yebbz Ashanti
URL:https://www.collage-arts.org/event/revolution-fundraiser-for-collage-voices/
LOCATION:Karamel N22\, 4 Coburg Rd\, Wood Green\, London\, N22 6UJ\, United Kingdom
CATEGORIES:Music,Theatre
ATTACH;FMTTYPE=image/webp:https://www.collage-arts.org/wp-content/uploads/2025/06/2025-06-29-revolution-fundraiser-for-collage-voices-karamel-1.webp
ORGANIZER;CN="Collage Voices":MAILTO:voices@collage-arts.org
END:VEVENT
END:VCALENDAR