BEGIN:VCALENDAR
VERSION:2.0
PRODID:-//Collage Arts - ECPv6.15.20//NONSGML v1.0//EN
CALSCALE:GREGORIAN
METHOD:PUBLISH
X-WR-CALNAME:Collage Arts
X-ORIGINAL-URL:https://www.collage-arts.org
X-WR-CALDESC:Events for Collage Arts
REFRESH-INTERVAL;VALUE=DURATION:PT1H
X-Robots-Tag:noindex
X-PUBLISHED-TTL:PT1H
BEGIN:VTIMEZONE
TZID:Europe/London
BEGIN:DAYLIGHT
TZOFFSETFROM:+0000
TZOFFSETTO:+0100
TZNAME:BST
DTSTART:20240331T010000
END:DAYLIGHT
BEGIN:STANDARD
TZOFFSETFROM:+0100
TZOFFSETTO:+0000
TZNAME:GMT
DTSTART:20241027T010000
END:STANDARD
BEGIN:DAYLIGHT
TZOFFSETFROM:+0000
TZOFFSETTO:+0100
TZNAME:BST
DTSTART:20250330T010000
END:DAYLIGHT
BEGIN:STANDARD
TZOFFSETFROM:+0100
TZOFFSETTO:+0000
TZNAME:GMT
DTSTART:20251026T010000
END:STANDARD
BEGIN:DAYLIGHT
TZOFFSETFROM:+0000
TZOFFSETTO:+0100
TZNAME:BST
DTSTART:20260329T010000
END:DAYLIGHT
BEGIN:STANDARD
TZOFFSETFROM:+0100
TZOFFSETTO:+0000
TZNAME:GMT
DTSTART:20261025T010000
END:STANDARD
END:VTIMEZONE
BEGIN:VEVENT
DTSTART;TZID=Europe/London:20250502T190000
DTEND;TZID=Europe/London:20250502T220000
DTSTAMP:20260423T125643
CREATED:20250429T093020Z
LAST-MODIFIED:20250429T093020Z
UID:5411-1746212400-1746223200@www.collage-arts.org
SUMMARY:The Fun Screening - Part III
DESCRIPTION:The Fun Screening – Part III \nA flickering image. A long walk home. The world’s cutest frog. A very very very very important call. All this and more featured in The Fun Screening part 3! \nFollowing suit from the screenings in Dec ‘22 and Feb ‘24 The Fun Screening 3 is a showcase of short films produced by a collection of young\, talented artists and filmmakers. Ranging from stop-motion animation to existential comedy\, anxious realism to dreamy nightlife\, each film has been independently produced and finds its own unique genre and style. Join us in celebration and support for this fresh and vibrant collection of short films. \nDoors open 7pm.
URL:https://www.collage-arts.org/event/the-fun-screening-part-iii/
LOCATION:McQueens Theatre\, 4 Coburg Rd\, London\, N22 6UJ\, United Kingdom
CATEGORIES:External Events,Theatre
ATTACH;FMTTYPE=image/webp:https://www.collage-arts.org/wp-content/uploads/2025/04/2025-05-02-the-fun-screening-part-iii-karamel.webp
END:VEVENT
BEGIN:VEVENT
DTSTART;TZID=Europe/London:20250517T190000
DTEND;TZID=Europe/London:20250517T230000
DTSTAMP:20260423T125643
CREATED:20250429T094410Z
LAST-MODIFIED:20250429T094410Z
UID:5414-1747508400-1747522800@www.collage-arts.org
SUMMARY:Long Nights Productions Presents... PLAY ON
DESCRIPTION:PLAY ON is a night of new writing\, live music and delicious food. \n7 – 11pm. Doors at 6:30pm \nFour short plays will be performed\, alongside a Jazz band in a relaxed cabaret environment. Karamel Café\, an award-winning\, 100% vegan restauraunt\, will be serving food and drinks throughout. (Please note\, all tickets include entry and a snack.) \nLater in the evening\, there’ll be a jam session where any musicians in the audience will be welcome to get on stage and join the band. \nAll the proceeds from this event go towards Collage Arts\, a leading arts development\, training and creative regeneration charity based in heart of Haringey. \nFor 39 years\, Collage Arts has created opportunities for greater access and participation in the arts and creative industries for the whole community through a range of skills and enterprise programmes\, support services\, arts development and heritage projects\, facilities and resources.
URL:https://www.collage-arts.org/event/long-nights-productions-presents-play-on/
LOCATION:Karamel N22\, 4 Coburg Rd\, Wood Green\, London\, N22 6UJ\, United Kingdom
CATEGORIES:External Events,Music,Theatre
ATTACH;FMTTYPE=image/webp:https://www.collage-arts.org/wp-content/uploads/2025/04/2025-05-17-long-nights-productions-presents-dot-dot-dot-play-on-karamel.webp
END:VEVENT
BEGIN:VEVENT
DTSTART;TZID=Europe/London:20250522T193000
DTEND;TZID=Europe/London:20250523T210000
DTSTAMP:20260423T125643
CREATED:20250328T121643Z
LAST-MODIFIED:20250520T102359Z
UID:5387-1747942200-1748034000@www.collage-arts.org
SUMMARY:SHMEDIC
DESCRIPTION:“He doesn’t get it. I’d do anything to protect him…” \nFrom the valleys of South Wales\, Shmedic sets off for medical school in the hope of saving lives… \nParticularly that of her younger brother Chuk\, from sickle cell. \nBut when a night shift from hell and an untimely encounter with a dead body turns her whole life upside down\, who will save her? \nWe meet Shmedic mid therapy session\, in a desperate bid to clear her name. \nFlashbacks of a not so sunny childhood and a tumultuous time at medical school\, reveal a stark contrast to the exemplary ‘NHS hero’ she so proudly claims to be. If superpowers and extra resilience were handed out at graduation… well… she must have missed that part. \nWill anyone stand at the door to clap when the mask slips\, and all that’s left is a bit of a Shmedic? \nExploring themes of mental health and identity with a comedic edge\, this debut one woman play by doctor turned writer and actress Dr Sara Otung brings a new voice to the stage. \nBook now to save your seat \nTickets: £10 – £25 \n4 Coburg Road\, London N22 6UJ. The Karamel vegan kitchen will be serving food until 9.30pm. Email karamel8775@gmail.com to book a table for groups of 3+. \nThursday 22nd May and Saturday 24th May! \nDoors open 7pm. Starts at 7.30pm.
URL:https://www.collage-arts.org/event/shmedic/
LOCATION:McQueens Theatre\, 4 Coburg Rd\, London\, N22 6UJ\, United Kingdom
CATEGORIES:External Events,Theatre
ATTACH;FMTTYPE=image/png:https://www.collage-arts.org/wp-content/uploads/2025/03/Shmedic-Artwork.png
END:VEVENT
END:VCALENDAR