BEGIN:VCALENDAR
VERSION:2.0
PRODID:-//Collage Arts - ECPv6.15.20//NONSGML v1.0//EN
CALSCALE:GREGORIAN
METHOD:PUBLISH
X-ORIGINAL-URL:https://www.collage-arts.org
X-WR-CALDESC:Events for Collage Arts
REFRESH-INTERVAL;VALUE=DURATION:PT1H
X-Robots-Tag:noindex
X-PUBLISHED-TTL:PT1H
BEGIN:VTIMEZONE
TZID:Europe/London
BEGIN:DAYLIGHT
TZOFFSETFROM:+0000
TZOFFSETTO:+0100
TZNAME:BST
DTSTART:20220327T010000
END:DAYLIGHT
BEGIN:STANDARD
TZOFFSETFROM:+0100
TZOFFSETTO:+0000
TZNAME:GMT
DTSTART:20221030T010000
END:STANDARD
BEGIN:DAYLIGHT
TZOFFSETFROM:+0000
TZOFFSETTO:+0100
TZNAME:BST
DTSTART:20230326T010000
END:DAYLIGHT
BEGIN:STANDARD
TZOFFSETFROM:+0100
TZOFFSETTO:+0000
TZNAME:GMT
DTSTART:20231029T010000
END:STANDARD
BEGIN:DAYLIGHT
TZOFFSETFROM:+0000
TZOFFSETTO:+0100
TZNAME:BST
DTSTART:20240331T010000
END:DAYLIGHT
BEGIN:STANDARD
TZOFFSETFROM:+0100
TZOFFSETTO:+0000
TZNAME:GMT
DTSTART:20241027T010000
END:STANDARD
BEGIN:DAYLIGHT
TZOFFSETFROM:+0000
TZOFFSETTO:+0100
TZNAME:BST
DTSTART:20250330T010000
END:DAYLIGHT
BEGIN:STANDARD
TZOFFSETFROM:+0100
TZOFFSETTO:+0000
TZNAME:GMT
DTSTART:20251026T010000
END:STANDARD
END:VTIMEZONE
BEGIN:VEVENT
DTSTART;TZID=Europe/London:20241130T151500
DTEND;TZID=Europe/London:20241207T164500
DTSTAMP:20260421T113127
CREATED:20241126T113707Z
LAST-MODIFIED:20241126T113707Z
UID:5071-1732979700-1733589900@www.collage-arts.org
SUMMARY:Drama (16-19)
DESCRIPTION:An opportunity to work with one of Britain’s most experienced drama tutors Celia Greenwood.  \nExplore drama through Improvisation and text every Saturday 15.15 – 16.45pm. \n  \nSpring Term Dates \n11th Jan – 15th Feb \n1st Mar – 5th April \n  \nSummer Term Dates \n26th Apr – 24th May \n7th Jun – 12th Jul
URL:https://www.collage-arts.org/event/drama-16-19/
LOCATION:McQueens Theatre\, 4 Coburg Rd\, London\, N22 6UJ\, United Kingdom
CATEGORIES:Saturday Sessions - Drama
ATTACH;FMTTYPE=image/avif:https://www.collage-arts.org/wp-content/uploads/2024/11/voices3.avif
ORGANIZER;CN="Collage Voices":MAILTO:voices@collage-arts.org
END:VEVENT
BEGIN:VEVENT
DTSTART;TZID=Europe/London:20241130T150000
DTEND;TZID=Europe/London:20241207T163000
DTSTAMP:20260421T113127
CREATED:20241126T114008Z
LAST-MODIFIED:20241126T114008Z
UID:5074-1732978800-1733589000@www.collage-arts.org
SUMMARY:Advanced Drama (19+)
DESCRIPTION:Taught by acclaimed writer and director Che Walker these sessions guide those in the process of applying to drama school\, those who wish to circumvent the drama school path altogether and begin working professionally\, as well as those who would simply like drama as part of their personal development.  \n  \nSpring Term Dates \n11th Jan – 15th Feb \n1st Mar – 5th April \n  \nSummer Term Dates \n26th Apr – 24th May \n7th Jun – 12th Jul
URL:https://www.collage-arts.org/event/advanced-drama-19/
LOCATION:McQueens Theatre\, 4 Coburg Rd\, London\, N22 6UJ\, United Kingdom
CATEGORIES:Saturday Sessions - Drama
ATTACH;FMTTYPE=image/avif:https://www.collage-arts.org/wp-content/uploads/2024/11/voices4.avif
ORGANIZER;CN="Collage Voices":MAILTO:voices@collage-arts.org
END:VEVENT
BEGIN:VEVENT
DTSTART;TZID=Europe/London:20241130T133000
DTEND;TZID=Europe/London:20241207T150000
DTSTAMP:20260421T113127
CREATED:20241126T110610Z
LAST-MODIFIED:20241126T110656Z
UID:5067-1732973400-1733583600@www.collage-arts.org
SUMMARY:Drama (11-16 yrs)
DESCRIPTION:An opportunity to work with one of Britain’s most experienced drama tutors Celia Greenwood.  \nExplore drama through Improvisation and text every \nSaturday 13.30 – 15:00 pm.  \n  \nSpring Term Dates \n11th Jan – 15th Feb \n1st Mar – 5th April \n  \nSummer Term Dates \n26th Apr – 24th May \n7th Jun – 12th Jul
URL:https://www.collage-arts.org/event/drama-11-16-yrs/
LOCATION:McQueens Theatre\, 4 Coburg Rd\, London\, N22 6UJ\, United Kingdom
CATEGORIES:Saturday Sessions - Drama
ATTACH;FMTTYPE=image/avif:https://www.collage-arts.org/wp-content/uploads/2024/11/voices2.avif
ORGANIZER;CN="Collage Voices":MAILTO:voices@collage-arts.org
END:VEVENT
BEGIN:VEVENT
DTSTART;TZID=Europe/London:20241130T101500
DTEND;TZID=Europe/London:20241207T114500
DTSTAMP:20260421T113127
CREATED:20241126T105731Z
LAST-MODIFIED:20241126T110304Z
UID:5062-1732961700-1733571900@www.collage-arts.org
SUMMARY:Drama (8-11)
DESCRIPTION:An opportunity to work with performer Simone Cornelius.  \nExplore drama through games\, improvisation\, and text every Saturday morning 10.15-11.45.  \n  \nSpring Term Dates \n11th Jan – 15th Feb \n1st Mar – 5th April \n  \nSummer Term Dates \n26th Apr – 24th May \n7th Jun – 12th Jul
URL:https://www.collage-arts.org/event/drama-8-11/
LOCATION:McQueens Theatre\, 4 Coburg Rd\, London\, N22 6UJ\, United Kingdom
CATEGORIES:Saturday Sessions - Drama
ATTACH;FMTTYPE=image/avif:https://www.collage-arts.org/wp-content/uploads/2024/11/3H2C6233.avif
ORGANIZER;CN="Collage Voices":MAILTO:voices@collage-arts.org
END:VEVENT
BEGIN:VEVENT
DTSTART;TZID=Europe/London:20230225T163000
DTEND;TZID=Europe/London:20230325T180000
DTSTAMP:20260421T113127
CREATED:20220328T120027Z
LAST-MODIFIED:20230310T100305Z
UID:747-1677342600-1679767200@www.collage-arts.org
SUMMARY:Drama - Collage Ensemble
DESCRIPTION:A chance to join a company and start to make theatre. Alongside writer/director Ché Walker and movement director/devisor Steve Medlin plus several visiting artists you will develop original work throughout the year and get the chance to perform at our in-house theatre to the public. The academic year will end with a drama showcase to the professional industry. Please note: All participants must be aged 16+ and be able to hold high professional standards regarding attendance and timekeeping. \nThe Saturday sessions run continuously throughout the academic year. \n2022 Autumn term\n17th September – 22nd October (6 weeks)\nno session on 29th October\n5th November – 3rd December (5 weeks) \n2023 Spring term\n7th Jan – 11th Feb (6 weeks)\nno session on 18th February\n25th Feb – 25th Mar (5 weeks) \n2023 Summer term\n22nd Apr – 27th May (6 weeks)\nno session on 3rd June\n10th June – 8th July (5 weeks) \nFEES\nSessions cost £2 for 90 minutes.\nBursaries available. \nStudents welcome to enrol for multiple classes. No experience necessary. \nCONTACT/ENROL\nvoices@collage-arts.org\n0800 0092 970
URL:https://www.collage-arts.org/event/drama-collage-ensemble/
LOCATION:McQueens Theatre\, 4 Coburg Rd\, London\, N22 6UJ\, United Kingdom
CATEGORIES:Saturday Sessions - Drama
END:VEVENT
BEGIN:VEVENT
DTSTART;TZID=Europe/London:20230225T150000
DTEND;TZID=Europe/London:20230325T163000
DTSTAMP:20260421T113127
CREATED:20220328T115818Z
LAST-MODIFIED:20230310T095950Z
UID:745-1677337200-1679761800@www.collage-arts.org
SUMMARY:Advanced Drama (min. 16s)
DESCRIPTION:Led by acclaimed actor\, writer & director Ché Walker. This class is designed for semi-professional actors aged 16+. Our current cohort ranges from ages 17-30. These sessions guide those in the process of applying to drama school\, those who have already attended or those who wish to circumvent the drama school path altogether and begin working professionally. Students can also attend the later 4.30pm ensemble class which focuses on devising drama. \nThe Saturday sessions run continuously throughout the academic year. \n2022 Autumn term\n17th September – 22nd October (6 weeks)\nno session on 29th October\n5th November – 3rd December (5 weeks) \n2023 Spring term\n7th Jan – 11th Feb (6 weeks)\nno session on 18th February\n25th Feb – 25th Mar (5 weeks) \n2023 Summer term\n22nd Apr – 27th May (6 weeks)\nno session on 3rd June\n10th June – 8th July (5 weeks) \nFEES\nSessions cost £2 for 90 minutes.\nBursaries available. \nStudents welcome to enrol for multiple classes. No experience necessary. \nCONTACT/ENROL\nvoices@collage-arts.org\n0800 0092 970
URL:https://www.collage-arts.org/event/advanced-drama/
LOCATION:McQueens Theatre\, 4 Coburg Rd\, London\, N22 6UJ\, United Kingdom
CATEGORIES:Saturday Sessions - Drama
END:VEVENT
BEGIN:VEVENT
DTSTART;TZID=Europe/London:20230225T133000
DTEND;TZID=Europe/London:20230325T150000
DTSTAMP:20260421T113127
CREATED:20220328T115702Z
LAST-MODIFIED:20230310T100406Z
UID:738-1677331800-1679756400@www.collage-arts.org
SUMMARY:Drama - 11-16s
DESCRIPTION:Led by Celia Greenwood\, our young actors are guided through the next stage of performance skills and dramaturgy. With a new focus on text analysis\, students explore character\, action and voice. Students are encouraged to take ownership of their work and newly acquired drama skills by performing monologues and scenes. \nThe Saturday sessions run continuously throughout the academic year. \n2022 Autumn term\n17th September – 22nd October (6 weeks)\nno session on 29th October\n5th November – 3rd December (5 weeks) \n2023 Spring term\n7th Jan – 11th Feb (6 weeks)\nno session on 18th February\n25th Feb – 25th Mar (5 weeks) \n2023 Summer term\n22nd Apr – 27th May (6 weeks)\nno session on 3rd June\n10th June – 8th July (5 weeks) \nFEES\nSessions cost £2 for 90 minutes.\nBursaries available. \nStudents welcome to enrol for multiple classes. No experience necessary. \nCONTACT/ENROL\nvoices@collage-arts.org\n0800 0092 970
URL:https://www.collage-arts.org/event/drama-11-16s/
LOCATION:McQueens Theatre\, 4 Coburg Rd\, London\, N22 6UJ\, United Kingdom
CATEGORIES:Saturday Sessions - Drama
END:VEVENT
BEGIN:VEVENT
DTSTART;TZID=Europe/London:20230225T101500
DTEND;TZID=Europe/London:20230325T114500
DTSTAMP:20260421T113127
CREATED:20220328T115549Z
LAST-MODIFIED:20230310T100504Z
UID:733-1677320100-1679744700@www.collage-arts.org
SUMMARY:Drama - 8-11s
DESCRIPTION:Simone Cornelius teaches foundational performance skills through a mix of fun and challenging exercises. Students also work together to devise end of term performances. \nThe Saturday sessions run continuously throughout the academic year. \n2022 Autumn term\n17th September – 22nd October (6 weeks)\nno session on 29th October\n5th November – 3rd December (5 weeks) \n2023 Spring term\n7th Jan – 11th Feb (6 weeks)\nno session on 18th February\n25th Feb – 25th Mar (5 weeks) \n2023 Summer term\n22nd Apr – 27th May (6 weeks)\nno session on 3rd June\n10th June – 8th July (5 weeks) \nFEES\nSessions cost £2 for 90 minutes.\nBursaries available. \nStudents welcome to enrol for multiple classes. No experience necessary. \nCONTACT/ENROL\nvoices@collage-arts.org\n0800 0092 970
URL:https://www.collage-arts.org/event/drama-8-11s/
LOCATION:McQueens Theatre\, 4 Coburg Rd\, London\, N22 6UJ\, United Kingdom
CATEGORIES:Saturday Sessions - Drama
END:VEVENT
END:VCALENDAR