BEGIN:VCALENDAR
VERSION:2.0
PRODID:-//Collage Arts - ECPv6.15.20//NONSGML v1.0//EN
CALSCALE:GREGORIAN
METHOD:PUBLISH
X-ORIGINAL-URL:https://www.collage-arts.org
X-WR-CALDESC:Events for Collage Arts
REFRESH-INTERVAL;VALUE=DURATION:PT1H
X-Robots-Tag:noindex
X-PUBLISHED-TTL:PT1H
BEGIN:VTIMEZONE
TZID:Europe/London
BEGIN:DAYLIGHT
TZOFFSETFROM:+0000
TZOFFSETTO:+0100
TZNAME:BST
DTSTART:20240331T010000
END:DAYLIGHT
BEGIN:STANDARD
TZOFFSETFROM:+0100
TZOFFSETTO:+0000
TZNAME:GMT
DTSTART:20241027T010000
END:STANDARD
BEGIN:DAYLIGHT
TZOFFSETFROM:+0000
TZOFFSETTO:+0100
TZNAME:BST
DTSTART:20250330T010000
END:DAYLIGHT
BEGIN:STANDARD
TZOFFSETFROM:+0100
TZOFFSETTO:+0000
TZNAME:GMT
DTSTART:20251026T010000
END:STANDARD
BEGIN:DAYLIGHT
TZOFFSETFROM:+0000
TZOFFSETTO:+0100
TZNAME:BST
DTSTART:20260329T010000
END:DAYLIGHT
BEGIN:STANDARD
TZOFFSETFROM:+0100
TZOFFSETTO:+0000
TZNAME:GMT
DTSTART:20261025T010000
END:STANDARD
END:VTIMEZONE
BEGIN:VEVENT
DTSTART;TZID=Europe/London:20251115T120000
DTEND;TZID=Europe/London:20251115T180000
DTSTAMP:20260423T034551
CREATED:20251021T143448Z
LAST-MODIFIED:20251021T143448Z
UID:5726-1763208000-1763229600@www.collage-arts.org
SUMMARY:N22 Open Studios!
DESCRIPTION:Collage Arts welcomes you to The N22 Open Studios 2025.\nN22 OPEN STUDIOS 2025 POWERED BY COLLAGE ARTS\n\nSave the date! – Public days: Saturday 15 and Sunday 16 November\, noon-6pm\nPrivate view Thursday 13 November\, 6-9pm at Karamel\, 4 Coburg Road\, N22 6UJ\nEmail info@collage-arts.org to request a place at the Private View.\n\nHIGHLIGHTS\n40 artists exhibiting at the Karamel Gallery from Thursday 13th November 2025\n30 ARTISTS AND MAKERS (CAS5) \nDiscover new art and creativity within the Artist Studios & Artspaces in N22. This means you can visit artists\, see exhibitions. Entry to N22 Open Studios is free. \nNow in its 25th year\, the N22 Open Studio is a celebration of the creative community’s unique contribution to Wood Green. It is a chance to meet artists in their studios\, talk to them about their work and even purchase something for your home or wardrobe.\nMeet local artists\, makers\, and performers — from painters to sculptors\, musicians to wrestlers — all bringing the energy to North London’s most creative space.\n\nDonations to our community arts programmes are welcome. For over 40 years\, Collage Arts has been the creative heart of Wood Green. Open Studios will take place across multiple venues\, locations and dates: \nKaramel – Collage Artspace 1 [Group exhibition]\, 4 Coburg Road N22 6UJ. SAT and SUN \nMcQueens Theatre – Collage Artspace 1 [Hustle Wrestling]\, 4 Coburg Road N22 6UJ. SAT and SUN. ( Sunday Show at 6pm – tickets are on Musicglue.com/karamel) \nCollage Artspace 5 – [Studios] Unit 3\, 44 Coburg Road N22 6TZ. SAT and SUN. \n\nN22 Corridor Gallery (Street view only)\nLarge artworks on display via Floor to Ceiling glass panels.\n2a Mary Neuner Road\, N8 0FA. Opposite St William Marketing Suite\n\nVisit the Artists directory at: www.n22openstudios.com
URL:https://www.collage-arts.org/event/n22-open-studios-3/
CATEGORIES:Open Studios
ATTACH;FMTTYPE=image/webp:https://www.collage-arts.org/wp-content/uploads/2025/10/2025-11-13-n22-open-studios-exhibition-private-view-karamel-1.webp
END:VEVENT
BEGIN:VEVENT
DTSTART;TZID=Europe/London:20251116T120000
DTEND;TZID=Europe/London:20251116T180000
DTSTAMP:20260423T034551
CREATED:20251021T143536Z
LAST-MODIFIED:20251021T143536Z
UID:5729-1763294400-1763316000@www.collage-arts.org
SUMMARY:N22 Open Studios!
DESCRIPTION:Collage Arts welcomes you to The N22 Open Studios 2025.\nN22 OPEN STUDIOS 2025 POWERED BY COLLAGE ARTS\n\nSave the date! – Public days: Saturday 15 and Sunday 16 November\, noon-6pm\nPrivate view Thursday 13 November\, 6-9pm at Karamel\, 4 Coburg Road\, N22 6UJ\nEmail info@collage-arts.org to request a place at the Private View.\n\nHIGHLIGHTS\n40 artists exhibiting at the Karamel Gallery from Thursday 13th November 2025\n30 ARTISTS AND MAKERS (CAS5) \nDiscover new art and creativity within the Artist Studios & Artspaces in N22. This means you can visit artists\, see exhibitions. Entry to N22 Open Studios is free. \nNow in its 25th year\, the N22 Open Studio is a celebration of the creative community’s unique contribution to Wood Green. It is a chance to meet artists in their studios\, talk to them about their work and even purchase something for your home or wardrobe.\nMeet local artists\, makers\, and performers — from painters to sculptors\, musicians to wrestlers — all bringing the energy to North London’s most creative space.\n\nDonations to our community arts programmes are welcome. For over 40 years\, Collage Arts has been the creative heart of Wood Green. Open Studios will take place across multiple venues\, locations and dates: \nKaramel – Collage Artspace 1 [Group exhibition]\, 4 Coburg Road N22 6UJ. SAT and SUN \nMcQueens Theatre – Collage Artspace 1 [Hustle Wrestling]\, 4 Coburg Road N22 6UJ. SAT and SUN. ( Sunday Show at 6pm – tickets are on Musicglue.com/karamel) \nCollage Artspace 5 – [Studios] Unit 3\, 44 Coburg Road N22 6TZ. SAT and SUN. \nN22 Corridor Gallery (Street view only)\nLarge artworks on display via Floor to Ceiling glass panels.\n2a Mary Neuner Road\, N8 0FA. Opposite St William Marketing Suite\n\nVisit the Artists directory at: www.n22openstudios.com
URL:https://www.collage-arts.org/event/n22-open-studios-4/
CATEGORIES:Open Studios
ATTACH;FMTTYPE=image/webp:https://www.collage-arts.org/wp-content/uploads/2025/10/2025-11-13-n22-open-studios-exhibition-private-view-karamel-1.webp
END:VEVENT
END:VCALENDAR