BEGIN:VCALENDAR
VERSION:2.0
PRODID:-//Collage Arts - ECPv6.15.20//NONSGML v1.0//EN
CALSCALE:GREGORIAN
METHOD:PUBLISH
X-WR-CALNAME:Collage Arts
X-ORIGINAL-URL:https://www.collage-arts.org
X-WR-CALDESC:Events for Collage Arts
REFRESH-INTERVAL;VALUE=DURATION:PT1H
X-Robots-Tag:noindex
X-PUBLISHED-TTL:PT1H
BEGIN:VTIMEZONE
TZID:Europe/London
BEGIN:DAYLIGHT
TZOFFSETFROM:+0000
TZOFFSETTO:+0100
TZNAME:BST
DTSTART:20250330T010000
END:DAYLIGHT
BEGIN:STANDARD
TZOFFSETFROM:+0100
TZOFFSETTO:+0000
TZNAME:GMT
DTSTART:20251026T010000
END:STANDARD
BEGIN:DAYLIGHT
TZOFFSETFROM:+0000
TZOFFSETTO:+0100
TZNAME:BST
DTSTART:20260329T010000
END:DAYLIGHT
BEGIN:STANDARD
TZOFFSETFROM:+0100
TZOFFSETTO:+0000
TZNAME:GMT
DTSTART:20261025T010000
END:STANDARD
BEGIN:DAYLIGHT
TZOFFSETFROM:+0000
TZOFFSETTO:+0100
TZNAME:BST
DTSTART:20270328T010000
END:DAYLIGHT
BEGIN:STANDARD
TZOFFSETFROM:+0100
TZOFFSETTO:+0000
TZNAME:GMT
DTSTART:20271031T010000
END:STANDARD
END:VTIMEZONE
BEGIN:VEVENT
DTSTART;TZID=Europe/London:20260423T200000
DTEND;TZID=Europe/London:20260423T220000
DTSTAMP:20260423T195303
CREATED:20260331T110027Z
LAST-MODIFIED:20260331T110027Z
UID:6006-1776974400-1776981600@www.collage-arts.org
SUMMARY:KAIYO presents Jazz Stories with Josephine Davies
DESCRIPTION:Doors open 7pm\, music from 8pm. \nStep into an evening of deep groove and luminous improvisation as saxophonist Josephine Davies joins Kaiyo Jazz for a night that celebrates the very best of contemporary UK jazz. \nJoin us for an unforgettable night of music and conversation! The evening will open with a Q&A session\, giving audiences a rare chance to hear Josephine Davies reflect on some of those experiences before she takes the stage—an intimate window into the life and craft of a true jazz musician. \nDavies\, winner of the 2019 Parliamentary Jazz Award\, has become one of the most distinctive and expressive saxophone voices of her generation. Her recent achievements span acclaimed original compositions\, prize‑winning ensemble projects\, and a growing reputation for writing that blends emotional nuance with rhythmic daring. Whether performing with her own groups or collaborating across the scene\, she continues to collect accolades for her inventive arrangements and commanding presence. \nAn elegant and lyrical composer and improviser\, with a ruggedly beautiful tenor sound that makes liberal use of vocalisation” – **** All About Jazz \nKaramel – 4 Coburg Road\, London N22 6UJ. The Karamel vegan kitchen will be serving food until 9.30pm. Email karamel8775@gmail.com to book a table for groups of 3+. \nDoors open 7pm. Music starts at 8pm.
URL:https://www.collage-arts.org/event/kaiyo-presents-jazz-stories-with-josephine-davies/
LOCATION:Karamel N22\, 4 Coburg Rd\, Wood Green\, London\, N22 6UJ\, United Kingdom
CATEGORIES:Music
ATTACH;FMTTYPE=image/webp:https://www.collage-arts.org/wp-content/uploads/2026/03/2026-04-23-kaiyo-presents-jazz-stories-with-josephine-davies-karamel.webp
ORGANIZER;CN="Karamel N22":MAILTO:karamel8775@gmail.com
END:VEVENT
BEGIN:VEVENT
DTSTART;TZID=Europe/London:20260424T200000
DTEND;TZID=Europe/London:20260424T220000
DTSTAMP:20260423T195303
CREATED:20260331T110138Z
LAST-MODIFIED:20260331T110138Z
UID:6009-1777060800-1777068000@www.collage-arts.org
SUMMARY:Leonard Bernstein's West Side Story - Liam Noble & Paul Clarvis
DESCRIPTION:Doors open 7pm\, music from 8pm. \nA remarkable duo re-enactment of Leonard Bernstein’s West Side Story performed by inventive pianist Liam Noble and leading percussionist Paul Clarvis. \nPaul Clarvis was the favourite drummer of Leonard Bernstein and he performed and recorded with the great master composer many times over the years. \nIn celebration of that time Paul and Liam present the whole of West Side Story in their unique way… \n**Line Up: \nPaul Clarvis – drums\, percussion & Liam Noble – piano** \nKaramel – 4 Coburg Road\, London N22 6UJ. The Karamel vegan kitchen will be serving food until 9.30pm. Email karamel8775@gmail.com to book a table for groups of 3+. \nDoors open 7pm. Music starts at 8pm.
URL:https://www.collage-arts.org/event/leonard-bernsteins-west-side-story-liam-noble-paul-clarvis/
LOCATION:Karamel N22\, 4 Coburg Road\, London\, N22 6UJ\, United Kingdom
CATEGORIES:Music
ATTACH;FMTTYPE=image/webp:https://www.collage-arts.org/wp-content/uploads/2026/03/2026-04-24-leonard-bernsteins-west-side-story-liam-noble-and-paul-clarvis-karamel-1.webp
ORGANIZER;CN="Karamel N22":MAILTO:karamel8775@gmail.com
END:VEVENT
BEGIN:VEVENT
DTSTART;TZID=Europe/London:20260425T190000
DTEND;TZID=Europe/London:20260425T220000
DTSTAMP:20260423T195303
CREATED:20260331T110425Z
LAST-MODIFIED:20260331T110425Z
UID:6012-1777143600-1777154400@www.collage-arts.org
SUMMARY:TRACE CINEMA: All Dirt Roads Taste of Salt
DESCRIPTION:Welcome to TRACE CINEMA! A home for independent films. \nFor our first event\, we are delighted to screen All Dirt Roads Taste of Salt by Raven Jackson. \nSynopsis: A lyrical\, decades-spanning exploration across a woman’s life in Mississippi\, the feature debut from award-winning poet\, photographer and filmmaker Raven Jackson is a haunting and richly layered portrait\, a beautiful ode to the generations of people and places that shape us. \n2023\, United States\, Raven Jackson\, 92 mins \nCourtesy of A24 \nPrice: £7 (+ £1 booking fee) \nEvent Date: \n25 Apr 2026 \nEvent timings: \nDoors Open: 6.30pm / Event start: 7pm \nFind out more on instagram: @tracecinema \nFAQs – ** *What rating is the film: * **Whilst the distributor suggests that the film is a PG\, All Dirt Roads Taste of Salt is not officially classified by the BBFC and therefore this event is for 18+ only. \n*What time does the film start? * Doors open at 18:30 with the introduction and film starting at 19:00. \n*Will there be an introduction or post film discussion? * Each TRACE CINEMA screening will come with an introduction. We understand that some people love to discuss films after seeing them and others like to reflect on their own. At TRACE\, there is no pressure to talk about films after seeing them but feel free to chat to us in the bar if you would like! \nIs there anything else I should know about the event/venue? Do feel free to arrive/stay at the venue for drinks/bites in the Long Lounge. Last orders are at 22:00 and the venue closes at 22:30.
URL:https://www.collage-arts.org/event/trace-cinema-all-dirt-roads-taste-of-salt/
LOCATION:McQueens Theatre\, 4 Coburg Rd\, London\, N22 6UJ\, United Kingdom
CATEGORIES:Music
ATTACH;FMTTYPE=image/webp:https://www.collage-arts.org/wp-content/uploads/2026/03/2026-04-25-trace-cinema-all-dirt-roads-taste-of-salt-mcqueens-theatre.webp
ORGANIZER;CN="Karamel N22":MAILTO:karamel8775@gmail.com
END:VEVENT
BEGIN:VEVENT
DTSTART;TZID=Europe/London:20260430T200000
DTEND;TZID=Europe/London:20260430T220000
DTSTAMP:20260423T195303
CREATED:20260331T110751Z
LAST-MODIFIED:20260331T110751Z
UID:6018-1777579200-1777586400@www.collage-arts.org
SUMMARY:Collage presents: Emily C Williams Band - 'Guest & Strangers'
DESCRIPTION:Doors open 7pm\, music from 8pm. \nThe line up: \nAdam Dyer – Piano Klara Devlin Trumpet/Flugel Horn Ruben Vriend – Double bass Flavio Livigni – Drums Emily Williams – Vocals \n‘Emily C Williams is an emerging jazz singer from South London. For her first album\, Guest and Strangers — released in March 2026 — she has got together with musicians she knows well to record a set of songs written by brothers\, Chris and Jonathan Elven. Emily’s soulful and mellifluous voice combines beautifully with these evocative and offbeat songs\, which reflect on some of the strange\, even paradoxical aspects of modern life and love.’ \nKaramel – 4 Coburg Road\, London N22 6UJ. The Karamel vegan kitchen will be serving food until 9.30pm. Email karamel8775@gmail.com to book a table for groups of 3+. \nDoors open 7pm. Music starts at 8pm.
URL:https://www.collage-arts.org/event/collage-presents-emily-c-williams-band-guest-strangers/
LOCATION:Karamel N22\, 4 Coburg Rd\, Wood Green\, London\, N22 6UJ\, United Kingdom
CATEGORIES:Music
ATTACH;FMTTYPE=image/webp:https://www.collage-arts.org/wp-content/uploads/2026/03/2026-04-30-emily-c-williams-band-guest-and-strangers-karamel.webp
ORGANIZER;CN="Karamel N22":MAILTO:karamel8775@gmail.com
END:VEVENT
END:VCALENDAR