BEGIN:VCALENDAR
VERSION:2.0
PRODID:-//Collage Arts - ECPv6.15.20//NONSGML v1.0//EN
CALSCALE:GREGORIAN
METHOD:PUBLISH
X-WR-CALNAME:Collage Arts
X-ORIGINAL-URL:https://www.collage-arts.org
X-WR-CALDESC:Events for Collage Arts
REFRESH-INTERVAL;VALUE=DURATION:PT1H
X-Robots-Tag:noindex
X-PUBLISHED-TTL:PT1H
BEGIN:VTIMEZONE
TZID:Europe/London
BEGIN:DAYLIGHT
TZOFFSETFROM:+0000
TZOFFSETTO:+0100
TZNAME:BST
DTSTART:20240331T010000
END:DAYLIGHT
BEGIN:STANDARD
TZOFFSETFROM:+0100
TZOFFSETTO:+0000
TZNAME:GMT
DTSTART:20241027T010000
END:STANDARD
BEGIN:DAYLIGHT
TZOFFSETFROM:+0000
TZOFFSETTO:+0100
TZNAME:BST
DTSTART:20250330T010000
END:DAYLIGHT
BEGIN:STANDARD
TZOFFSETFROM:+0100
TZOFFSETTO:+0000
TZNAME:GMT
DTSTART:20251026T010000
END:STANDARD
BEGIN:DAYLIGHT
TZOFFSETFROM:+0000
TZOFFSETTO:+0100
TZNAME:BST
DTSTART:20260329T010000
END:DAYLIGHT
BEGIN:STANDARD
TZOFFSETFROM:+0100
TZOFFSETTO:+0000
TZNAME:GMT
DTSTART:20261025T010000
END:STANDARD
END:VTIMEZONE
BEGIN:VEVENT
DTSTART;TZID=Europe/London:20250904T200000
DTEND;TZID=Europe/London:20250904T220000
DTSTAMP:20260424T075039
CREATED:20250902T092205Z
LAST-MODIFIED:20250902T092205Z
UID:5602-1757016000-1757023200@www.collage-arts.org
SUMMARY:Sean Hargreaves Quintet
DESCRIPTION:Sean Hargreaves is a producer\, composer\, and pianist. \nIn 2024\, his solo piano EP\, ‘Portraits’ was released on Tileyard Records / Warner\, with a solo piano recital of the pieces given by Sean at Kings Place Concert Hall\, in London. \nHe has produced or co-produced include James Arthur\, Don Black\, Andrea Bocelli\, Paloma Faith\, Ella Henderson\, Becky Hill\, Rita Ora\, Mica Paris\, Sam Ryder and Sigala. He co-produced Ella Eyre’s platinum-disc winning version of ‘We Don’t Have To Take Our Clothes Off.’ \nSean is the founder / managing partner of TYE London\, a flagship recording studio at Tileyard London. \nSean is joined on stage with\, Ed Jones – tenor saxophone\, Neville Malcolm – bass Mark Taylor – drums and our own Henry Lowther – trumpet. \nKaramel – 4 Coburg Road\, London N22 6UJ. The Karamel vegan kitchen will be serving food until 9.30pm. Email karamel8775@gmail.com to book a table for groups of 3+. \nDoors open 7pm\, music starts at 8pm.
URL:https://www.collage-arts.org/event/sean-hargreaves-quintet/
LOCATION:Karamel N22\, 4 Coburg Rd\, Wood Green\, London\, N22 6UJ\, United Kingdom
CATEGORIES:Music
ATTACH;FMTTYPE=image/jpeg:https://www.collage-arts.org/wp-content/uploads/2025/09/SeanHargreaves.jpg
ORGANIZER;CN="Karamel N22":MAILTO:karamel8775@gmail.com
END:VEVENT
BEGIN:VEVENT
DTSTART;TZID=Europe/London:20250906T200000
DTEND;TZID=Europe/London:20250906T220000
DTSTAMP:20260424T075039
CREATED:20250902T094509Z
LAST-MODIFIED:20250902T094509Z
UID:5605-1757188800-1757196000@www.collage-arts.org
SUMMARY:Grass Roots - George Johnson
DESCRIPTION:Grass Roots is a monthly event which is wholeheartedly committed to championing emerging UK-based jazz talent. While our home in Peckham is in the process of moving to a new location\, we’re taking the show on the road and setting up camp at Karamel in Wood Green. \nFor the month of September\, we will warmly welcome to the stage tenor saxophonist and BBC Young Jazz Musician Of The Year 2024 finalist George Johnson. Alongside his quartet\, he will be stirring up a captivating concoction of original material and reworkings of his most cherished compositions. \nDrawing from his jazz roots and groove sensibilities\, his multi-faceted repertoire also comprises Latin\, soul\, art rock and hip-hop. George’s stellar supporting cast includes King David Ike-Elechi on drums\, Scottie Thompson on keys and Zaki Osahn on double bass. Expect to be entertained by a youthful jazz outfit with a really rounded and mature sound. \nFor more info about Grass Roots\, feel free to visit www.soulsa.co.uk/grass-roots. \nKaramel – 4 Coburg Road\, London N22 6UJ. The Karamel vegan kitchen will be serving food until 9.30pm. Email karamel8775@gmail.com to book a table for groups of 3+. \nDoors open 7pm\, music starts at 8pm.
URL:https://www.collage-arts.org/event/grass-roots-george-johnson/
LOCATION:Karamel N22\, 4 Coburg Rd\, Wood Green\, London\, N22 6UJ\, United Kingdom
CATEGORIES:Music
ATTACH;FMTTYPE=image/webp:https://www.collage-arts.org/wp-content/uploads/2025/09/2025-09-06-grass-roots-george-johnson-karamel.webp
ORGANIZER;CN="Karamel N22":MAILTO:karamel8775@gmail.com
END:VEVENT
BEGIN:VEVENT
DTSTART;TZID=Europe/London:20250911T200000
DTEND;TZID=Europe/London:20250911T220000
DTSTAMP:20260424T075039
CREATED:20250902T094640Z
LAST-MODIFIED:20250902T094640Z
UID:5608-1757620800-1757628000@www.collage-arts.org
SUMMARY:ZerOclassikal: Free Flow Classikal
DESCRIPTION:Free Flow Classikal is returning to Karamel on popular demand with a very exciting lineup: Akash Parekar (sitar)\, Shivam Pattni (guitar/piano/electronics) and Harkiran Sahota (tabla). \nJoin us for a moving exploration of South Asian Classical music through the medium of free improvisation. No boundaries – No limits. \nAkash Parekar started playing and learning the Sitar at the late age of 18 in 2011 and is now part of the new generation of exciting British-born sitar players. His musical upbringing was initially in Western classical and contemporary Western music\, which adds to his innovative playing style. From the tender age of 5\, Akash was performing on stage and has since flourished as a creative musician. Akash has worked on a number of collaborative projects such as Peguins Rising with Zak Starkey (The Who and Oasis)\, Mayur Navekar (Bandish Projekt) and Michael Tedstone (ManikeMusic) to name a few. Akash has also played and some very prestigious venues such as the Royal Albert Hall with the Philharmonic Orchestra and DE Montfort Hall\, Glastonbury\, Birmingham Town\, and Symphony Hall\, among others. \nShivam Pattni is a versatile vocalist\, multi-instrumentalist\, and producer with a rich musical background that spans Western choral music\, jazz\, and traditional bhajans. A former member and musical animateur of the National Youth Choir\, Shivam has performed at prestigious events such as the BBC Proms and\, at one point\, even shared the stage with Kylie Minogue\, dressed as a giant Christmas pudding. \nHarkiran Sahota is a talented musician\, who was enthralled by the sound and artistry of tabla from a young age. From 201\, when he began his formal training until now\, Harkiran’s tabla journey has been one of growth and learning with some notable performances along the way\, including accompanying artists such as Jasdeep Singh Degun\, Roopa Panesar and Kaviraj Singh during the tribute to Ustad Vilayat Khan concert and also performing at many Guru Poornima ceremonies. Harkiran was featured on the web series “My Journey and Me” in August 2020\, performing a tabla solo and was invited to perform a tabla solo live on Barkat Radio in 2020. \nKaramel – 4 Coburg Road\, London N22 6UJ. The Karamel vegan kitchen will be serving food until 9.30pm. Email karamel8775@gmail.com to book a table for groups of 4+. \nDoors open 7pm\, music starts at 8pm.
URL:https://www.collage-arts.org/event/zeroclassikal-free-flow-classikal-6/
LOCATION:Karamel N22\, 4 Coburg Rd\, Wood Green\, London\, N22 6UJ\, United Kingdom
CATEGORIES:Music
ATTACH;FMTTYPE=image/webp:https://www.collage-arts.org/wp-content/uploads/2025/09/2025-09-11-zeroclassikal-free-flow-classikal-karamel.webp
ORGANIZER;CN="Karamel N22":MAILTO:karamel8775@gmail.com
END:VEVENT
BEGIN:VEVENT
DTSTART;TZID=Europe/London:20250912T200000
DTEND;TZID=Europe/London:20250912T220000
DTSTAMP:20260424T075039
CREATED:20250902T095321Z
LAST-MODIFIED:20250902T095321Z
UID:5611-1757707200-1757714400@www.collage-arts.org
SUMMARY:Oxygen: Paul Westwood & Paul Clarvis\, featuring John & DJ Dan
DESCRIPTION:Paul Westwood & Paul Clarvis\, featuring John & DJ Dan \nThe group will be performing a new set of music entitled Oxygen\, which highlights jazz\, rock\, funk\, dark grooves and world music. The music has strong riffs\, innovative melodies\, creative improvisation\, dynamic percussion and textural soundscaping. \nBand members include: Paul Westwood (bass gtr)\, Paul Clarvis (perc)\, John Crockford (keys)\, and DJ Dan\, who have taken inspiration from events happening in the world past and present. \nThese musicians have worked with such artistes as: George Benson\, Peter Green\, Herbie Hancock\, Mick Jagger\, Al Jarreau\, Elton John\, Madonna\, Hugh Masekela\, Sir Paul McCartney\, George Michael\, Wayne Shorter\, Nina Simone. They have also recorded numerous movie soundtracks with John Barry\, David Bowie and Hans Zimmer (Star Wars\, Harry Potter\, Skyfall\, Tron\, Shrek\, The Hobbit). \nKaramel – 4 Coburg Road\, London N22 6UJ. The Karamel vegan kitchen will be serving food until 9.30pm. Email karamel8775@gmail.com to book a table for groups of 3+. \nDoors open 7pm\, music starts at 8pm.
URL:https://www.collage-arts.org/event/oxygen-paul-westwood-paul-clarvis-featuring-john-dj-dan/
LOCATION:Karamel N22\, 4 Coburg Rd\, Wood Green\, London\, N22 6UJ\, United Kingdom
CATEGORIES:Music
ATTACH;FMTTYPE=image/webp:https://www.collage-arts.org/wp-content/uploads/2025/09/2025-09-12-oxygen-paul-westwood-and-paul-clarvis-featuring-john-and-dj-dan-karamel.webp
ORGANIZER;CN="Karamel N22":MAILTO:karamel8775@gmail.com
END:VEVENT
BEGIN:VEVENT
DTSTART;TZID=Europe/London:20250913T200000
DTEND;TZID=Europe/London:20250913T220000
DTSTAMP:20260424T075039
CREATED:20250902T095713Z
LAST-MODIFIED:20250902T095713Z
UID:5614-1757793600-1757800800@www.collage-arts.org
SUMMARY:Periscopi Invertit
DESCRIPTION:Mireia is the bass player\, composer and band leader of Periscopi Invertit. \nPeriscopi Invertit explores the fusion of Catalan ancient folk tunes with vibrant funk\, Latin\, and jazz arrangements while maintaining a connection to Mediterranean sounds and grooves. \nPeriscopi Invertit is the reflection of an immigration journey in a never ending multicultural world. \nCurrently\, the band just finished the mastering of their debut album\, which will be released in November by the Catalan record label Crea Music (https://creamusic.creamultimedia.net/). \nPeriscopi Invertit has performed at a variety of venues\, including The Jago\, Orleans Bar\, The Old Hall at Lincoln’s Inn\, The Mildmay Club\, Waterloo Creative Studio\, Upstairs at the Ritzy\, The Post Bar\, Folklore (Hoxton)\, and Jam in a Jar\, among others. \nMireia\, a graduate of the Escola Superior de Música de Catalunya (ESMUC) in 2010\, as a bass player has made her mark in the UK performing in the musical show Millennials at MTFest (in the Turbine Theather)\, as well as festivals like Medicine Festival (main stage with Koroleko)\, Small World Festival\, African Diapora\, Better World Festival\, Wilderness Festival\, London Eid Festival\, The British Academy Summer Showcase 2019\, Africa Oyé\, Journeys Festival\, 15 th London African Music Festival\, The big Feastival\, Rising sounds Festival\, Village Beach Festival\, Green Village Festival for artists like Mim Suleiman\, Nelson & Friends\, Koroleko\, Malunga and Berber Difusion. \nKaramel – 4 Coburg Road\, London N22 6UJ. The Karamel vegan kitchen will be serving food until 9.30pm. Email karamel8775@gmail.com to book a table for groups of 3+. \nDoors open 7pm\, music starts at 8pm.
URL:https://www.collage-arts.org/event/periscopi-invertit/
LOCATION:Karamel N22\, 4 Coburg Rd\, Wood Green\, London\, N22 6UJ\, United Kingdom
CATEGORIES:Music
ATTACH;FMTTYPE=image/webp:https://www.collage-arts.org/wp-content/uploads/2025/09/2025-09-13-periscopi-invertit-karamel.webp
ORGANIZER;CN="Karamel N22":MAILTO:karamel8775@gmail.com
END:VEVENT
BEGIN:VEVENT
DTSTART;TZID=Europe/London:20250918T200000
DTEND;TZID=Europe/London:20250918T220000
DTSTAMP:20260424T075039
CREATED:20250902T095902Z
LAST-MODIFIED:20250902T095902Z
UID:5617-1758225600-1758232800@www.collage-arts.org
SUMMARY:KAIYO 3 with Byron Wallen
DESCRIPTION:This month\, Kaiyo is joined by Byron Wallen! \nRaised in a musical family\, as a small child Byron studied classical piano. He also played euphonium but then switched to trumpet\, studying with Peter Ruderforth in London and with Jimmy Owens\, Donald Byrd and Jon Faddis in New York in the mid to late 80s. In 1992\, Wallen graduated from Sussex University with a degree in psychology\, philosophy and mathematics. \nWidely recognised as a seminal figure in world jazz\, he is constantly travelling the world recording\, teaching and performing. He has been playing trumpet in various contexts\, live and on record\, alongside legendary musicians such as George Benson\, Andrew Hill\, Chaka Khan\, Ingrid Laubrock\, Hugh Masekela\, Courtney Pine\, Mulatu Astatke\, Red Snapper\, Lonnie Liston Smith\, Style Council\, Jack Dejohnette\, Jean Toussaint\, Cleveland Watkiss and King Sunny Ade. He has visited East Africa\, Morocco\, Nigeria\, Indonesia and Belize (his parents’ homeland). On tour Wallen often works with local musicians\, developing new ideas for his performances and compositions. \nByron Wallen has received the BBC Jazz Innovation award (2003) and has been nominated several times for the MOBO award. In 2017 he received the coveted Paul Hamlyn Award. In 2020 his band Four Corners was nominated for the best band category at the Parlimentary Jazz Awards. \nBand Line Up: Special guest – Byron Wallen – trumpet Mark Taylor – Drums Simon Purcell – Piano Amy Baldwin- Bass \nKaramel – 4 Coburg Road\, London N22 6UJ. The Karamel vegan kitchen will be serving food until 9.30pm. Email karamel8775@gmail.com to book a table for groups of 3+. \nDoors open 7pm\, music starts at 8pm.
URL:https://www.collage-arts.org/event/kaiyo-3-with-byron-wallen/
LOCATION:Karamel N22\, 4 Coburg Rd\, Wood Green\, London\, N22 6UJ\, United Kingdom
CATEGORIES:Music
ATTACH;FMTTYPE=image/jpeg:https://www.collage-arts.org/wp-content/uploads/2025/09/byronwallen_04-scaled.jpg
ORGANIZER;CN="Karamel N22":MAILTO:karamel8775@gmail.com
END:VEVENT
BEGIN:VEVENT
DTSTART;TZID=Europe/London:20250919T200000
DTEND;TZID=Europe/London:20250919T220000
DTSTAMP:20260424T075039
CREATED:20250902T100945Z
LAST-MODIFIED:20250902T100945Z
UID:5620-1758312000-1758319200@www.collage-arts.org
SUMMARY:Sheon Toms Trio
DESCRIPTION:Sheon Toms is a 21 year old guitarist and composer currently studying jazz at Trinity Laban. Introduced to jazz through the prestigious talent development organisation Tomorrow’s Warriors\, Sheon has honed his skills under the tutelage of Denys Baptiste\, Sultan Stevenson and Binker Golding. Alongside him will be the powerhouse rhythm section of Joe Steyn on the drums and Zaki Osahn on bass. As sidemen they have performed at an array of festivals and venues including Dizzy’s Club NYC\, The Vortex and Love Supreme Festival. The band will be debuting a set of original music drawing from the sounds of George Benson\, Branford Marsalis Quartet and Lage Lund. \nKaramel – 4 Coburg Road\, London N22 6UJ. The Karamel vegan kitchen will be serving food until 9.30pm. Email karamel8775@gmail.com to book a table for groups of 3+. \nDoors open 7pm\, music starts at 8pm.
URL:https://www.collage-arts.org/event/sheon-toms-trio/
LOCATION:Karamel N22\, 4 Coburg Rd\, Wood Green\, London\, N22 6UJ\, United Kingdom
CATEGORIES:Music
ATTACH;FMTTYPE=image/webp:https://www.collage-arts.org/wp-content/uploads/2025/09/2025-09-19-sheon-toms-trio-karamel.webp
ORGANIZER;CN="Karamel N22":MAILTO:karamel8775@gmail.com
END:VEVENT
BEGIN:VEVENT
DTSTART;TZID=Europe/London:20250925T200000
DTEND;TZID=Europe/London:20250925T220000
DTSTAMP:20260424T075039
CREATED:20250914T145923Z
LAST-MODIFIED:20250914T145923Z
UID:5647-1758830400-1758837600@www.collage-arts.org
SUMMARY:TOMORROW’S WARRIORS PRESENTS... Junior Band
DESCRIPTION:Tomorrow’s Warriors Junior Band is an exciting line-up of musicians aged 14-16\, featuring some of the most promising musicians on Tomorrow’s Warriors’ award-winning Young Artist Development Programme. The band are closely mentored by Rosie Turton – one of the finest trombonists on the London scene – as well as Dian Gasper\, Axel Kaner-Lidstrom\, and Gary Crosby OBE. Whilst following the lineage of jazz of the great jazz canon\, they bring their own unique style and arrangements to their music. \nMore about Tomorrow’s Warriors \nFor over 30 years\, Tomorrow’s Warriors has played a vital role within its community and the wider music industry and has been credited with literally changing the face of UK jazz. \nFree access to Tomorrow’s Warriors artistic programme has proved crucial in nurturing the nascent talent and early careers of so many of the most exciting UK artists currently tearing up the international jazz scene including Mercury Prize 2023 recipients and BRIT Awards Best Group 2025 winners EZRA Collective\, Moses Boyd\, Nubya Garcia\, Shabaka Hutchings and Sons of Kemet\, ESKA\, Jason Yarde\, Denys Baptiste\, Robert Mitchell\, Soweto Kinch\, Shirley Tetteh\, Byron Wallen…the list goes on. \nTomorrow’s Warriors offers a pioneering\, free to access\, comprehensive programme of learning and training which champions and supports young Black and female talent and those who come from challenging circumstances that would be a barrier to accessing opportunities to pursue a music career. \n“Tomorrow’s Warriors occupies a unique and vital space in our cultural landscape. Their work in helping positively shape future generations is of critical importance especially with the tribulations we currently face. Please keep supporting – each one\, teach one!” Gilles Peterson \nKaramel – 4 Coburg Road\, London N22 6UJ. The Karamel vegan kitchen will be serving food until 9.30pm. Email karamel8775@gmail.com to book a table for groups of 3+. \nDoors open 7pm\, music starts at 8pm.
URL:https://www.collage-arts.org/event/tomorrows-warriors-presents-junior-band/
LOCATION:Karamel N22\, 4 Coburg Rd\, Wood Green\, London\, N22 6UJ\, United Kingdom
CATEGORIES:Music
ATTACH;FMTTYPE=image/webp:https://www.collage-arts.org/wp-content/uploads/2025/09/2025-09-25-tomorrows-warriors-presents-dot-dot-dot-junior-band-karamel.webp
ORGANIZER;CN="Karamel N22":MAILTO:karamel8775@gmail.com
END:VEVENT
END:VCALENDAR