BEGIN:VCALENDAR
VERSION:2.0
PRODID:-//Collage Arts - ECPv6.15.20//NONSGML v1.0//EN
CALSCALE:GREGORIAN
METHOD:PUBLISH
X-ORIGINAL-URL:https://www.collage-arts.org
X-WR-CALDESC:Events for Collage Arts
REFRESH-INTERVAL;VALUE=DURATION:PT1H
X-Robots-Tag:noindex
X-PUBLISHED-TTL:PT1H
BEGIN:VTIMEZONE
TZID:Europe/London
BEGIN:DAYLIGHT
TZOFFSETFROM:+0000
TZOFFSETTO:+0100
TZNAME:BST
DTSTART:20240331T010000
END:DAYLIGHT
BEGIN:STANDARD
TZOFFSETFROM:+0100
TZOFFSETTO:+0000
TZNAME:GMT
DTSTART:20241027T010000
END:STANDARD
BEGIN:DAYLIGHT
TZOFFSETFROM:+0000
TZOFFSETTO:+0100
TZNAME:BST
DTSTART:20250330T010000
END:DAYLIGHT
BEGIN:STANDARD
TZOFFSETFROM:+0100
TZOFFSETTO:+0000
TZNAME:GMT
DTSTART:20251026T010000
END:STANDARD
BEGIN:DAYLIGHT
TZOFFSETFROM:+0000
TZOFFSETTO:+0100
TZNAME:BST
DTSTART:20260329T010000
END:DAYLIGHT
BEGIN:STANDARD
TZOFFSETFROM:+0100
TZOFFSETTO:+0000
TZNAME:GMT
DTSTART:20261025T010000
END:STANDARD
END:VTIMEZONE
BEGIN:VEVENT
DTSTART;TZID=Europe/London:20250801T180000
DTEND;TZID=Europe/London:20250801T230000
DTSTAMP:20260424T090827
CREATED:20250617T133142Z
LAST-MODIFIED:20250617T133142Z
UID:5507-1754071200-1754089200@www.collage-arts.org
SUMMARY:IGNITED LDN
DESCRIPTION:Join Short Stay Records for our monthly release party — headlined by the soulful Labisi — and celebrate a night of live music\, creativity\, and community. \nDiscover performances from three exciting emerging artists\, followed by an open jam and networking session. \nA fully stocked bar and vegan kitchen will be running all night. \nTickets via QR code
URL:https://www.collage-arts.org/event/ignited-ldn-2/
LOCATION:Karamel N22\, 4 Coburg Rd\, Wood Green\, London\, N22 6UJ\, United Kingdom
CATEGORIES:External Events,Music
ATTACH;FMTTYPE=image/webp:https://www.collage-arts.org/wp-content/uploads/2025/06/2025-07-04-ignited-ldn-karamel.webp
ORGANIZER;CN="Karamel N22":MAILTO:karamel8775@gmail.com
END:VEVENT
BEGIN:VEVENT
DTSTART;TZID=Europe/London:20250807T200000
DTEND;TZID=Europe/London:20250807T213000
DTSTAMP:20260424T090827
CREATED:20250624T131729Z
LAST-MODIFIED:20250624T131729Z
UID:5514-1754596800-1754602200@www.collage-arts.org
SUMMARY:Tori Freestone Quartet
DESCRIPTION:Tori Freestone saxophonist\, flautist\, violinist and composer\, known for her robust tenor sound and melodic invention. The Guardian critic John Fordham described her first album In The Chop House as “an imposingly original sound”. \nIn 2017 Freestone was shortlisted for a Fellowship in Jazz Composition supported by PRS for Music Foundation\, UK Arts Foundation. \nTori will be joined by Huw Warren – piano\, Dudley Philips – bass\, Corrie Dick – drums. \nKaramel – 4 Coburg Road\, London N22 6UJ. The Karamel vegan kitchen will be serving food until 9.30pm. Email karamel8775@gmail.com to book a table for groups of 3+. \nDoors open 7pm\, music starts at 8pm.
URL:https://www.collage-arts.org/event/tori-freestone-quartet/
LOCATION:Karamel N22\, 4 Coburg Rd\, Wood Green\, London\, N22 6UJ\, United Kingdom
CATEGORIES:Music
ATTACH;FMTTYPE=image/webp:https://www.collage-arts.org/wp-content/uploads/2025/06/2025-08-07-tori-freestone-quartet-karamel.webp
ORGANIZER;CN="Karamel N22":MAILTO:karamel8775@gmail.com
END:VEVENT
BEGIN:VEVENT
DTSTART;TZID=Europe/London:20250809T200000
DTEND;TZID=Europe/London:20250809T220000
DTSTAMP:20260424T090827
CREATED:20250624T135104Z
LAST-MODIFIED:20250624T135104Z
UID:5520-1754769600-1754776800@www.collage-arts.org
SUMMARY:Soulvines – Bringing the music of Amy Winehouse to Wood Green
DESCRIPTION:Step into a night of soul\, style\, and stunning vocals as The Soulvines bring the unforgettable sound of Amy Winehouse to life! We’re a newly formed 5-piece band – four seasoned musicians and one powerhouse female vocalist – united by a love of jazz\, blues\, and funk. \nWith rich instrumentation\, smooth grooves\, and raw emotion\, we’re delivering a passionate performance of Amy’s greatest hits. From Back to Black to Valerie\, expect a night of music that’s bold\, sultry\, and full of soul. \n🎷 Let us take immerse you in the sound of Amy. \nKaramel – 4 Coburg Road\, London N22 6UJ. The Karamel vegan kitchen will be serving food until 9.30pm. Email karamel8775@gmail.com to book a table for groups of 3+. \nDoors open 7pm\, music starts at 8pm.
URL:https://www.collage-arts.org/event/soulvines-bringing-the-music-of-amy-winehouse-to-wood-green/
LOCATION:Karamel N22\, 4 Coburg Rd\, Wood Green\, London\, N22 6UJ\, United Kingdom
CATEGORIES:Music
ATTACH;FMTTYPE=image/webp:https://www.collage-arts.org/wp-content/uploads/2025/06/2025-08-09-soulvines-bringing-the-music-of-amy-winehouse-to-wood-green-karamel.webp
ORGANIZER;CN="Karamel N22":MAILTO:karamel8775@gmail.com
END:VEVENT
BEGIN:VEVENT
DTSTART;TZID=Europe/London:20250814T200000
DTEND;TZID=Europe/London:20250814T220000
DTSTAMP:20260424T090827
CREATED:20250624T135856Z
LAST-MODIFIED:20250624T135856Z
UID:5523-1755201600-1755208800@www.collage-arts.org
SUMMARY:Sean Fyfe
DESCRIPTION:Canadian jazz pianist Sean Fyfe emerges as a distinguished artist with an impressive international footprint\, having graced stages in New York and Montreal. Noteworthy for his collaborative work on acclaimed recordings such as ‘In This Moment’ (2022) and ‘Opening Statement’ (2017) with Sam Kirmayer\, as well as ‘Conduit’ (2014) featuring Azar Lawrence with Al McLean\, Fyfe recently marked his second record as a bandleader with ‘Stepping Stones’ (2024)\, following his debut album ‘Late Night’ (2022). \nA product of the esteemed Manhattan School of Music and McGill University\, Fyfe refined his skills under the mentorship of pianists Jeremy Manasia\, Garry Dial\, Andre White\, and Joshua Rager. His performances have left an indelible mark on iconic venues like Smalls\, Mezzrow\, Pizza Express and Ronnie Scott’s. \nFyfe’s collaborative endeavors span continents\, featuring partnerships with acclaimed musicians such as Jon Gordon\, Greg Abate\, Alex Claffy\, Joe Farnsworth\, Alan Barnes\, Dave O’Higgins\, Quentin Collins and Alex Garnett. Grounded in the traditions of jazz luminaries like Bill Evans\, Bobby Timmons\, Wynton Kelly\, and Cedar Walton\, Fyfe’s artistry resonates with a profound appreciation for the genre’s heritage. \nKaramel – 4 Coburg Road\, London N22 6UJ. The Karamel vegan kitchen will be serving food until 9.30pm. Email karamel8775@gmail.com to book a table for groups of 3+. \nDoors open 7pm\, music starts at 8pm.
URL:https://www.collage-arts.org/event/sean-fyfe/
LOCATION:Karamel N22\, 4 Coburg Rd\, Wood Green\, London\, N22 6UJ\, United Kingdom
CATEGORIES:Music
ATTACH;FMTTYPE=image/webp:https://www.collage-arts.org/wp-content/uploads/2025/06/2025-08-14-sean-fyfe-karamel.webp
ORGANIZER;CN="Karamel N22":MAILTO:karamel8775@gmail.com
END:VEVENT
END:VCALENDAR