BEGIN:VCALENDAR
VERSION:2.0
PRODID:-//Collage Arts - ECPv6.15.20//NONSGML v1.0//EN
CALSCALE:GREGORIAN
METHOD:PUBLISH
X-WR-CALNAME:Collage Arts
X-ORIGINAL-URL:https://www.collage-arts.org
X-WR-CALDESC:Events for Collage Arts
REFRESH-INTERVAL;VALUE=DURATION:PT1H
X-Robots-Tag:noindex
X-PUBLISHED-TTL:PT1H
BEGIN:VTIMEZONE
TZID:Europe/London
BEGIN:DAYLIGHT
TZOFFSETFROM:+0000
TZOFFSETTO:+0100
TZNAME:BST
DTSTART:20240331T010000
END:DAYLIGHT
BEGIN:STANDARD
TZOFFSETFROM:+0100
TZOFFSETTO:+0000
TZNAME:GMT
DTSTART:20241027T010000
END:STANDARD
BEGIN:DAYLIGHT
TZOFFSETFROM:+0000
TZOFFSETTO:+0100
TZNAME:BST
DTSTART:20250330T010000
END:DAYLIGHT
BEGIN:STANDARD
TZOFFSETFROM:+0100
TZOFFSETTO:+0000
TZNAME:GMT
DTSTART:20251026T010000
END:STANDARD
BEGIN:DAYLIGHT
TZOFFSETFROM:+0000
TZOFFSETTO:+0100
TZNAME:BST
DTSTART:20260329T010000
END:DAYLIGHT
BEGIN:STANDARD
TZOFFSETFROM:+0100
TZOFFSETTO:+0000
TZNAME:GMT
DTSTART:20261025T010000
END:STANDARD
END:VTIMEZONE
BEGIN:VEVENT
DTSTART;TZID=Europe/London:20250703T200000
DTEND;TZID=Europe/London:20250703T220000
DTSTAMP:20260424T104028
CREATED:20250608T190822Z
LAST-MODIFIED:20250608T190822Z
UID:5472-1751572800-1751580000@www.collage-arts.org
SUMMARY:Still Waters
DESCRIPTION:Line Up: Henry Lowther (trumpet)\, Pete Hurt (tenor sax)\, Barry Green (piano)\, Dave Green (bass)\, Paul Clarvis (drums). \nHenry Lowther’s Still Waters was born out a long association and friendship\, going back forty years\, between Henry and bassist Dave Green. They both felt that the time had arrived to play the music of their choice\, together with some of the finest jazz musicians working in Britain today. As a result Still Waters is now one of the most accomplished\, tightly ensembled and creative bands around. \nAlthough a classic quintet of two front line and rhythm\, Still Waters plays radical and original music\, ranging from gentle\, quietly pastoral and melodic music\, reflecting the band’s name\, through to dynamic\, free improvisation. Henry Lowther was born in Leicester\, England\, in 1941. Over the last 60 years Henry’s work on the British jazz scene reads like a “Who’s Who”. He has played regularly with\, amongst many others\, Gordon Beck\, Michael Garrick\, Graham Collier\, Mike Gibbs\, Pete King\, Loose Tubes\, John Surman\, John Taylor\, Stan Tracey and Kenny Wheeler \n“Meltingly attractive solos\, startling originality.” (Chris Parker\, Vortex review). \nKaramel – 4 Coburg Road\, London N22 6UJ. The Karamel vegan kitchen will be serving food until 9.30pm. Email karamel8775@gmail.com to book a table for groups of 3+. \nDoors open 7pm. Music starts at 8pm.
URL:https://www.collage-arts.org/event/still-waters-2/
LOCATION:Karamel N22\, 4 Coburg Rd\, Wood Green\, London\, N22 6UJ\, United Kingdom
CATEGORIES:Music
ATTACH;FMTTYPE=image/webp:https://www.collage-arts.org/wp-content/uploads/2024/06/2024-07-04-henry-lowther-still-waters-karamel-1.webp
ORGANIZER;CN="Karamel N22":MAILTO:karamel8775@gmail.com
END:VEVENT
BEGIN:VEVENT
DTSTART;TZID=Europe/London:20250704T180000
DTEND;TZID=Europe/London:20250704T220000
DTSTAMP:20260424T104028
CREATED:20250608T191303Z
LAST-MODIFIED:20250608T191303Z
UID:5474-1751652000-1751666400@www.collage-arts.org
SUMMARY:IGNITED LDN
DESCRIPTION:Join Short Stay Records for our debut release party — headlined by the soulful Labisi — and celebrate a night of live music\, creativity\, and community. \nDiscover performances from three exciting emerging artists\, followed by an open jam and networking session. \nA fully stocked bar and vegan kitchen will be running all night. \nTickets via QR code
URL:https://www.collage-arts.org/event/ignited-ldn/
LOCATION:Karamel N22\, 4 Coburg Rd\, Wood Green\, London\, N22 6UJ\, United Kingdom
CATEGORIES:Music
ATTACH;FMTTYPE=image/webp:https://www.collage-arts.org/wp-content/uploads/2025/06/2025-07-04-ignited-ldn-karamel.webp
ORGANIZER;CN="Karamel N22":MAILTO:karamel8775@gmail.com
END:VEVENT
BEGIN:VEVENT
DTSTART;TZID=Europe/London:20250705T200000
DTEND;TZID=Europe/London:20250705T220000
DTSTAMP:20260424T104028
CREATED:20250608T200845Z
LAST-MODIFIED:20250608T200845Z
UID:5477-1751745600-1751752800@www.collage-arts.org
SUMMARY:Tereza Catarov - Debut Album release - Koren
DESCRIPTION:Tereza Catarov is a London-based singer\, pianist\, and composer whose music bridges contemporary jazz with traditional Balkan and Eastern European influences. Her work is deeply rooted in the multicultural heritage of her upbringing\, blending Romanian and Bulgarian folk traditions with jazz. \nHer debut album\, Koren — meaning “root” in several Slavic languages—honours the voices of the women who shaped her early life\, particularly her grandmothers and the broader community of elders from her childhood. It is a sonic archive of resilience\, told through original compositions\, reimagined folk melodies\, and fragments of oral history. \nFor this project\, Tereza assembled a stellar international ensemble: Yiorgos Bereris (piano)\, Cem Evin (guitar)\, Thodoris Ziarkas (double bass)\, and Billy Pod (drums). Together\, they create an intimate yet expansive soundscape—where traditional folk melodies meet contemporary improvisation\, and ancient languages find new life. \nTereza has performed at prestigious festivals such as the EFG London Jazz Festival\, Swingin’ Groningen\, JazzX\, and Jazz in the Park (winning first prize in 2018). She has graced iconic venues\, including the Southbank Centre\, Vortex Jazz Club\, and Pizza Express Jazz Club Soho. Her music has garnered acclaim\, with features in London Jazz News\, airplay on Jazz FM and National Romanian Radio\, and a televised video premiere on National Romanian Television. With her evocative storytelling\, expressive vocal style\, and deep respect for tradition\, Tereza Catarov continues to shape a unique musical voice that resonates across cultures. \nKaramel – 4 Coburg Road\, London N22 6UJ. The Karamel vegan kitchen will be serving food until 9.30pm. Email karamel8775@gmail.com to book a table for groups of 3+. \nDoors open 7pm. Music starts at 8pm.
URL:https://www.collage-arts.org/event/tereza-catarov-debut-album-release-koren/
LOCATION:Karamel N22\, 4 Coburg Rd\, Wood Green\, London\, N22 6UJ\, United Kingdom
CATEGORIES:Music
ATTACH;FMTTYPE=image/webp:https://www.collage-arts.org/wp-content/uploads/2025/06/2025-07-05-tereza-catarov-debut-album-release-koren-karamel.webp
ORGANIZER;CN="Karamel N22":MAILTO:karamel8775@gmail.com
END:VEVENT
BEGIN:VEVENT
DTSTART;TZID=Europe/London:20250710T200000
DTEND;TZID=Europe/London:20250710T220000
DTSTAMP:20260424T104028
CREATED:20250610T123528Z
LAST-MODIFIED:20250610T123528Z
UID:5483-1752177600-1752184800@www.collage-arts.org
SUMMARY:Organza
DESCRIPTION:Organza is the new band from Patrick Naylor\, David Beebee and Eric Ford. This is the album launch of their debut. It represents their fresh take on the great jazz tradition of guitar and organ trios and features David Beebee on Hammond organ\, Eric Ford on drums and Patrick Naylor on guitar. \nPatrick Naylor has won praise from critics including at Jazzwise\, The Evening Standard\, All About Jazz. His album Days of Blue was a critical and commercial success with over 1.5 million streams on Spotify and was included in The Daily Telegraph’s Best Albums of 2015. The follow up album Winter Dream received more critical praise. He has played and composed for numerous TV programmes and ads\, film (Things To Do Before 30 starring Billie Piper) and radio; often with composer Dan Teper. \n“a highly articulate\, mellow musician” Tony Hall in Jazzwise \nDavid Beebee is a British pianist\, bassist\, composer and sound engineer based near Brighton. After graduating from the Royal Academy of Music\, David’s recent releases have included a piano trio album\, a quartet album with Loose Tubes saxophonist Julian Nicholas\, an ambient/free duo with vibist Martin Pyne and a further trio with Martin and saxophonist Josephine Davies\, among others. David also appears on recent releases by Imogen Ryall\, Patrick Naylor and Julian Costello. \n“David Beebee is brilliant… his scores are world class” Jazzwise \nEric Ford has been a resident in London since late 2006\, after 4 years in Paris. He enjoys working across the spectrum of music and has played around the globe and on over 60 albums. He’s performed at iconic venues such as Ronnie Scott’s and the Royal Albert Hall\, and with musicians as diverse as Ronnie Laws\, Marc Almond\, Clare Teal\, the London Jazz Orchestra and Jason Rebello. He’s also presented drum clinics in London and Beijing and has been a member of acclaimed contemporary jazz trio Partikel since 2009. \n“strong and creative.” Julian Joseph\, BBC Radio 3 Jazz Line Up \nKaramel – 4 Coburg Road\, London N22 6UJ. The Karamel vegan kitchen will be serving food until 9.30pm. Email karamel8775@gmail.com to book a table for groups of 3+. \nDoors open 7pm. Music starts at 8pm.
URL:https://www.collage-arts.org/event/organza/
LOCATION:Karamel N22\, 4 Coburg Rd\, Wood Green\, London\, N22 6UJ\, United Kingdom
CATEGORIES:Music
ATTACH;FMTTYPE=image/png:https://www.collage-arts.org/wp-content/uploads/2025/06/download-20.png
ORGANIZER;CN="Karamel N22":MAILTO:karamel8775@gmail.com
END:VEVENT
BEGIN:VEVENT
DTSTART;TZID=Europe/London:20250711T200000
DTEND;TZID=Europe/London:20250711T220000
DTSTAMP:20260424T104028
CREATED:20250610T123806Z
LAST-MODIFIED:20250610T123806Z
UID:5486-1752264000-1752271200@www.collage-arts.org
SUMMARY:Allegra Levy
DESCRIPTION:Allegra Levy continues to accumulate accolades. Named one of the Top Ten Rising Stars among jazz vocalists in Downbeat’s 2021 Critics’ Poll\, she has been dubbed a “double-barreled talent” by JazzTimes\, and called everything from “sophisticated\, worldly\, and swinging” to “the new pin-up girl for cool.” She was among last year’s winners of the John Lennon Songwriting Competition for Best Children’s Song. \nShe was also a 2023 finalist in the International Songwriting Competition’s Children’s Music category for her song “It’s So Hard to Be You.” Plus\, she took first place in the 2019 Great American Song Contest’s Adult Contemporary Music category for her pop tune “Waste My Time.” Yet she is equally known for her jazzy originals and rich\, emotive\, contralto voice. A graduate of New England Conservatory\, she proudly serves on the leadership of the Women in Jazz Organization. \nKaramel – 4 Coburg Road\, London N22 6UJ. The Karamel vegan kitchen will be serving food until 9.30pm. Email karamel8775@gmail.com to book a table for groups of 3+. \nDoors open 7pm\, music starts at 8pm.
URL:https://www.collage-arts.org/event/allegra-levy/
LOCATION:Karamel N22\, 4 Coburg Rd\, Wood Green\, London\, N22 6UJ\, United Kingdom
CATEGORIES:Music
ATTACH;FMTTYPE=image/png:https://www.collage-arts.org/wp-content/uploads/2025/06/image002.png
ORGANIZER;CN="Karamel N22":MAILTO:karamel8775@gmail.com
END:VEVENT
BEGIN:VEVENT
DTSTART;TZID=Europe/London:20250712T200000
DTEND;TZID=Europe/London:20250712T220000
DTSTAMP:20260424T104028
CREATED:20250617T105811Z
LAST-MODIFIED:20250617T105811Z
UID:5498-1752350400-1752357600@www.collage-arts.org
SUMMARY:Jasmine Alice
DESCRIPTION:Jasmine has worked full time as a professional singer internationally for the last 11 years performing around Mallorca\, Denmark\, Scotland and The Canary Islands. \nDuring the 2020 pandemic\, Jasmine used her time to reignite her passion for songwriting and now her work can be found on all major streaming platforms with her original songs ‘Telling Lies’ and ‘My Favourite Star.’ After moving back to the UK from Gran Canaria\, she has been gracing stages in and around London and this will be her debut show at Karamel. Jasmine’s voice is smooth\, sweet and she continues to impress audiences with her wide range and effortless vocals. \nCome join us for an evening of silky jazz\, funk and some groovy surprises. \nKaramel – 4 Coburg Road\, London N22 6UJ. The Karamel vegan kitchen will be serving food until 9.30pm. Email karamel8775@gmail.com to book a table for groups of 3+. \nDoors open 7pm\, music starts at 8pm.
URL:https://www.collage-arts.org/event/jasmine-alice/
LOCATION:Karamel N22\, 4 Coburg Rd\, Wood Green\, London\, N22 6UJ\, United Kingdom
CATEGORIES:Music
ATTACH;FMTTYPE=image/webp:https://www.collage-arts.org/wp-content/uploads/2025/06/2025-07-12-jasmine-alice-karamel.webp
ORGANIZER;CN="Karamel N22":MAILTO:karamel8775@gmail.com
END:VEVENT
BEGIN:VEVENT
DTSTART;TZID=Europe/London:20250724T200000
DTEND;TZID=Europe/London:20250724T220000
DTSTAMP:20260424T104028
CREATED:20250617T110414Z
LAST-MODIFIED:20250617T110414Z
UID:5501-1753387200-1753394400@www.collage-arts.org
SUMMARY:Mercedes Maresca
DESCRIPTION:Mercedes Maresca (piano) \nMercedes Maresca is from Argentina and has been based in London since 1999. She is a multi-instrumentalist\, composer and improviser. Mercedes has created Raices project\, a collection of small albums that explores her South American roots and her deep connection with the sound world of Spiritual Jazz. She will be performing an improvised set based on her recently released EP Gotas de Colores and her upcoming album Caminos (Raices Project) \nIn her own words these short pieces are “Pensamientos del alma”\, thoughts of the soul. \nOn Raices Project… \n“These miniatures are atmospheric\, melodic\, touching and easy to listen to\, without losing their musical deepness. And they showcase a very unique artist”. \nWulf Müller https://open.spotify.com/album/3Ash1lYnhPFDa4DMchFDFL \nMao Yamada (double bass) \nMao Yamada has been performing in and around London since 1994. He toured with Zongamin (XL recordings)\, Georgia (Domino records) around Europe\, US and Japan. He’s also toured as the regular bassist for Dominic Pipkin’s Dom & The Iko’s in UK and Europe. \nOn double bass\, Mao has worked with various London based musicians and projects such as Shirt Tail Stompers\, Our Little Trio\, Roy Pfeffer\, Cameron Pierre\, Dominic Ashworth\, Greg Heath\, Nick Meier\, Dorian Ford\, Shabaka Hutchings\, Leon Greening\, Edison Herbert\, Jonathan Gee\, Vimala Rowe\, Leon Garner. Mao has toured Japan in 2017\, 2019 and 2024 as a trio featuring Dorian Ford and a Japanese drumming legend Yasuhiro Yoshigaki. \nKaramel – 4 Coburg Road\, London N22 6UJ. The Karamel vegan kitchen will be serving food until 9.30pm. Email karamel8775@gmail.com to book a table for groups of 3+. \nDoors open 7pm\, music starts at 8pm.
URL:https://www.collage-arts.org/event/mercedes-maresca/
LOCATION:Karamel N22\, 4 Coburg Rd\, Wood Green\, London\, N22 6UJ\, United Kingdom
CATEGORIES:Music
ATTACH;FMTTYPE=image/webp:https://www.collage-arts.org/wp-content/uploads/2025/06/2025-07-24-mercedes-maresca-karamel.webp
ORGANIZER;CN="Karamel N22":MAILTO:karamel8775@gmail.com
END:VEVENT
BEGIN:VEVENT
DTSTART;TZID=Europe/London:20250731T200000
DTEND;TZID=Europe/London:20250731T220000
DTSTAMP:20260424T104028
CREATED:20250617T110932Z
LAST-MODIFIED:20250617T110932Z
UID:5504-1753992000-1753999200@www.collage-arts.org
SUMMARY:Stan Brunt Trio
DESCRIPTION:Stan Brunt is an award-winning Jazz Guitarist\, Arranger\, and Composer who is currently an active professional working in and around Greater London. Having started playing in Leeds in community bands including Chapel FM Jazz Collective\, he developed his skills over the next few years and recently graduated from the Royal Academy of Music. \nStan Brunt is the most recent winner of the Richard Turner Award\, a prestigious prize offered to those from the northern area of England. He has\, in his time at RAM\, worked with many world-renowned composers and musicians\, including Will Vinson\, Orlando LeFleming\, Ingrid Jensen\, Gwilym Simcock\, and more. Now he is leading a new project which explores the space created by having just guitar as the chordal instrument\, focusing heaving on improvisation and textural changes. This new band have played together around London and are creating a very individual group sound that is not to be missed. \nStan is joined by Will Sach on bass and Kai Macrae on drums. \nKaramel – 4 Coburg Road\, London N22 6UJ. The Karamel vegan kitchen will be serving food until 9.30pm. Email karamel8775@gmail.com to book a table for groups of 3+. \nDoors open 7pm\, music starts at 8pm.
URL:https://www.collage-arts.org/event/stan-brunt-trio/
LOCATION:Karamel N22\, 4 Coburg Rd\, Wood Green\, London\, N22 6UJ\, United Kingdom
CATEGORIES:Music
ATTACH;FMTTYPE=image/webp:https://www.collage-arts.org/wp-content/uploads/2025/06/2025-07-31-stan-brunt-trio-karamel.webp
ORGANIZER;CN="Karamel N22":MAILTO:karamel8775@gmail.com
END:VEVENT
END:VCALENDAR