BEGIN:VCALENDAR
VERSION:2.0
PRODID:-//Collage Arts - ECPv6.15.20//NONSGML v1.0//EN
CALSCALE:GREGORIAN
METHOD:PUBLISH
X-WR-CALNAME:Collage Arts
X-ORIGINAL-URL:https://www.collage-arts.org
X-WR-CALDESC:Events for Collage Arts
REFRESH-INTERVAL;VALUE=DURATION:PT1H
X-Robots-Tag:noindex
X-PUBLISHED-TTL:PT1H
BEGIN:VTIMEZONE
TZID:Europe/London
BEGIN:DAYLIGHT
TZOFFSETFROM:+0000
TZOFFSETTO:+0100
TZNAME:BST
DTSTART:20230326T010000
END:DAYLIGHT
BEGIN:STANDARD
TZOFFSETFROM:+0100
TZOFFSETTO:+0000
TZNAME:GMT
DTSTART:20231029T010000
END:STANDARD
BEGIN:DAYLIGHT
TZOFFSETFROM:+0000
TZOFFSETTO:+0100
TZNAME:BST
DTSTART:20240331T010000
END:DAYLIGHT
BEGIN:STANDARD
TZOFFSETFROM:+0100
TZOFFSETTO:+0000
TZNAME:GMT
DTSTART:20241027T010000
END:STANDARD
BEGIN:DAYLIGHT
TZOFFSETFROM:+0000
TZOFFSETTO:+0100
TZNAME:BST
DTSTART:20250330T010000
END:DAYLIGHT
BEGIN:STANDARD
TZOFFSETFROM:+0100
TZOFFSETTO:+0000
TZNAME:GMT
DTSTART:20251026T010000
END:STANDARD
END:VTIMEZONE
BEGIN:VEVENT
DTSTART;TZID=Europe/London:20240630T173000
DTEND;TZID=Europe/London:20240630T200000
DTSTAMP:20260421T170017
CREATED:20240622T141346Z
LAST-MODIFIED:20240622T141346Z
UID:4490-1719768600-1719777600@www.collage-arts.org
SUMMARY:Wood Green Wrestling
DESCRIPTION:Bodyslams\, Powerbombs and Pints! Join us for incredible wrestling just 5 minutes from Wood Green Tube Station! \nIt’s always an amazing atmosphere at Wood Green Wrestling! \nDoors Open at 5 pm Event starts at 5:30 pm \nFrom £16.96
URL:https://www.collage-arts.org/event/wood-green-wrestling/
LOCATION:McQueens Theatre\, 4 Coburg Rd\, London\, N22 6UJ\, United Kingdom
CATEGORIES:External Events
ATTACH;FMTTYPE=image/webp:https://www.collage-arts.org/wp-content/uploads/2024/06/2024-06-30-wood-green-wrestling-karamel.webp
END:VEVENT
BEGIN:VEVENT
DTSTART;TZID=Europe/London:20240629T190000
DTEND;TZID=Europe/London:20240629T233000
DTSTAMP:20260421T170017
CREATED:20240604T132332Z
LAST-MODIFIED:20240604T132332Z
UID:4415-1719687600-1719703800@www.collage-arts.org
SUMMARY:London Vegan Mixer
DESCRIPTION:MIXING COCKTAILS\, TUNES… AND VEGANS! \nfree entry · deejay set by DJÄK · delicious food by Kath & Roger \nJoin us for a new dance night at Karamel Club\, where we’ll take over the entire venue – socialise in the restaurant area over food and drinks\, or join the dancing crowd in the back room if you’re up for some groovy beats! \nTHE MUSIC \nAn eclectic mix of dance music across a broad spectrum including house\, rap\, pop\, drum and bass\, dubstep\, r’n’b and more. \nATTENDING \nEntry to the event is totally free\, but please do support the venue by buying food and/or drinks (both 100% vegan!). \nAll are welcome\, and we strive to make the event a safe and inclusive space for everyone – no discriminatory or abusive behaviour of any kind will be tolerated. \nACCESSIBILITY \nThe entrance to the venue is step-free and there is a wheelchair-accessible toilet.
URL:https://www.collage-arts.org/event/london-vegan-mixer-3/
LOCATION:Karamel N22\, 4 Coburg Rd\, Wood Green\, London\, N22 6UJ\, United Kingdom
CATEGORIES:External Events
ATTACH;FMTTYPE=image/webp:https://www.collage-arts.org/wp-content/uploads/2024/05/2024-04-13-london-vegan-mixer-karamel.webp
END:VEVENT
BEGIN:VEVENT
DTSTART;TZID=Europe/London:20240518T190000
DTEND;TZID=Europe/London:20240518T233000
DTSTAMP:20260421T170017
CREATED:20240514T103435Z
LAST-MODIFIED:20240514T103435Z
UID:4390-1716058800-1716075000@www.collage-arts.org
SUMMARY:London Vegan Mixer
DESCRIPTION:MIXING COCKTAILS\, TUNES… AND VEGANS! \nfree entry · deejay set by DJÄK · delicious food by Kath & Roger \nJoin us for a new dance night at Karamel Club\, where we’ll take over the entire venue – socialise in the restaurant area over food and drinks\, or join the dancing crowd in the back room if you’re up for some groovy beats! \nTHE MUSIC \nAn eclectic mix of dance music across a broad spectrum including house\, rap\, pop\, drum and bass\, dubstep\, r’n’b and more. \nATTENDING \nEntry to the event is totally free\, but please do support the venue by buying food and/or drinks (both 100% vegan!). \nAll are welcome\, and we strive to make the event a safe and inclusive space for everyone – no discriminatory or abusive behaviour of any kind will be tolerated. \nACCESSIBILITY \nThe entrance to the venue is step-free and there is a wheelchair-accessible toilet.
URL:https://www.collage-arts.org/event/london-vegan-mixer-2/
LOCATION:Karamel N22\, 4 Coburg Rd\, Wood Green\, London\, N22 6UJ\, United Kingdom
CATEGORIES:External Events
ATTACH;FMTTYPE=image/webp:https://www.collage-arts.org/wp-content/uploads/2024/05/2024-04-13-london-vegan-mixer-karamel.webp
END:VEVENT
BEGIN:VEVENT
DTSTART;TZID=Europe/London:20240504T180000
DTEND;TZID=Europe/London:20240504T213000
DTSTAMP:20260421T170017
CREATED:20240423T145433Z
LAST-MODIFIED:20240423T145433Z
UID:4335-1714845600-1714858200@www.collage-arts.org
SUMMARY:Sip and Paint
DESCRIPTION:We are thrilled to invite you to the first NTYM Sip and Paint Evening on May 4th! Get ready to unlock your inner artist and join us for an evening filled with creativity\, good vibes\, and great company. \nHere’s what you can expect: \n🎨 Sip and Paint: unlock your inner artist . No experience necessary – just bring your enthusiasm and we’ll provide the rest! \n🥂 Drinks: Enjoy a selection of beverages to sip on while you paint\, \n🎉 Raffle: Take part in our exciting raffle for a chance to win fabulous prizes! \n🎤 Karaoke: After the painting session\, unleash your inner rockstar and join us for some karaoke fun. \nKaramel\, 4 Coburg Road\, Wood Green\, London N22 6UJ. The Karamel kitchen is open all afternoon and evening serving delicious vegan world foods and refreshments.
URL:https://www.collage-arts.org/event/sip-and-paint/
LOCATION:Karamel N22\, 4 Coburg Rd\, Wood Green\, London\, N22 6UJ\, United Kingdom
CATEGORIES:External Events,Workshops,Community
ATTACH;FMTTYPE=image/webp:https://www.collage-arts.org/wp-content/uploads/2024/04/2024-05-04-sip-and-paint-karamel.webp
END:VEVENT
BEGIN:VEVENT
DTSTART;TZID=Europe/London:20240421T170000
DTEND;TZID=Europe/London:20240421T190000
DTSTAMP:20260421T170017
CREATED:20240402T112550Z
LAST-MODIFIED:20240402T112550Z
UID:4282-1713718800-1713726000@www.collage-arts.org
SUMMARY:Slainte! Theatre presents: Shepherd’s Warning
DESCRIPTION:In the theatre. \nThu 18 April to Sun 21 April. Times: 7.30pm (Thu/Fri/Sat)\, 5pm (Sun). \nSHEPHERD’S WARNING explores identity\, class\, broken families\, and how – when life as we know it comes to an end – we’re forced to choose what really matters. Cassie\, Bethany and David are estranged siblings who were separated by the foster care system in Scotland. But\, after the sudden passing of their mother\, they’re thrown back into each other’s juxtaposing worlds. Whilst they are making up for lost time\, the climate clock is ticking faster than ever. Can the siblings reconcile before it’s too late? \nShepherd’s Warning by Kari Hall is Slàinte! Theatres debut production. Sláinte! Theatre is a London-based emerging theatre company which aims to tell authentic stories from Irish and Scottish Voices. We want to create a network for Irish and Scottish creatives in London\, and to nurture a community of Celtic artists. \nCast \nBethany Elle O’Hara Cassie Kari Hall David Ross Barbour Fraser Hamish Somers \nDirected by Will Byam-Shaw. Assistant Directed by Greta Rilletti-Zaltieri \nClick on the ‘Buy tickets’ link (above) to get your tickets on Ticket Source. \nMcQueens Theatre – 4 Coburg Road\, London N22 6UJ.
URL:https://www.collage-arts.org/event/slainte-theatre-presents-shepherds-warning-4/
LOCATION:McQueens Theatre\, 4 Coburg Rd\, London\, N22 6UJ\, United Kingdom
CATEGORIES:External Events,Theatre
ATTACH;FMTTYPE=image/webp:https://www.collage-arts.org/wp-content/uploads/2024/03/101983-17092095710717-m.webp
END:VEVENT
BEGIN:VEVENT
DTSTART;TZID=Europe/London:20240420T193000
DTEND;TZID=Europe/London:20240420T213000
DTSTAMP:20260421T170017
CREATED:20240402T112452Z
LAST-MODIFIED:20240402T112452Z
UID:4280-1713641400-1713648600@www.collage-arts.org
SUMMARY:Slainte! Theatre presents: Shepherd’s Warning
DESCRIPTION:In the theatre. \nThu 18 April to Sun 21 April. Times: 7.30pm (Thu/Fri/Sat)\, 5pm (Sun). \nSHEPHERD’S WARNING explores identity\, class\, broken families\, and how – when life as we know it comes to an end – we’re forced to choose what really matters. Cassie\, Bethany and David are estranged siblings who were separated by the foster care system in Scotland. But\, after the sudden passing of their mother\, they’re thrown back into each other’s juxtaposing worlds. Whilst they are making up for lost time\, the climate clock is ticking faster than ever. Can the siblings reconcile before it’s too late? \nShepherd’s Warning by Kari Hall is Slàinte! Theatres debut production. Sláinte! Theatre is a London-based emerging theatre company which aims to tell authentic stories from Irish and Scottish Voices. We want to create a network for Irish and Scottish creatives in London\, and to nurture a community of Celtic artists. \nCast \nBethany Elle O’Hara Cassie Kari Hall David Ross Barbour Fraser Hamish Somers \nDirected by Will Byam-Shaw. Assistant Directed by Greta Rilletti-Zaltieri \nClick on the ‘Buy tickets’ link (above) to get your tickets on Ticket Source. \nMcQueens Theatre – 4 Coburg Road\, London N22 6UJ.
URL:https://www.collage-arts.org/event/slainte-theatre-presents-shepherds-warning-3/
LOCATION:McQueens Theatre\, 4 Coburg Rd\, London\, N22 6UJ\, United Kingdom
CATEGORIES:External Events,Theatre
ATTACH;FMTTYPE=image/webp:https://www.collage-arts.org/wp-content/uploads/2024/03/101983-17092095710717-m.webp
END:VEVENT
BEGIN:VEVENT
DTSTART;TZID=Europe/London:20240419T193000
DTEND;TZID=Europe/London:20240419T213000
DTSTAMP:20260421T170017
CREATED:20240402T112207Z
LAST-MODIFIED:20240402T112207Z
UID:4278-1713555000-1713562200@www.collage-arts.org
SUMMARY:Slainte! Theatre presents: Shepherd’s Warning
DESCRIPTION:In the theatre. \nThu 18 April to Sun 21 April. Times: 7.30pm (Thu/Fri/Sat)\, 5pm (Sun). \nSHEPHERD’S WARNING explores identity\, class\, broken families\, and how – when life as we know it comes to an end – we’re forced to choose what really matters. Cassie\, Bethany and David are estranged siblings who were separated by the foster care system in Scotland. But\, after the sudden passing of their mother\, they’re thrown back into each other’s juxtaposing worlds. Whilst they are making up for lost time\, the climate clock is ticking faster than ever. Can the siblings reconcile before it’s too late? \nShepherd’s Warning by Kari Hall is Slàinte! Theatres debut production. Sláinte! Theatre is a London-based emerging theatre company which aims to tell authentic stories from Irish and Scottish Voices. We want to create a network for Irish and Scottish creatives in London\, and to nurture a community of Celtic artists. \nCast \nBethany Elle O’Hara Cassie Kari Hall David Ross Barbour Fraser Hamish Somers \nDirected by Will Byam-Shaw. Assistant Directed by Greta Rilletti-Zaltieri \nClick on the ‘Buy tickets’ link (above) to get your tickets on Ticket Source. \nMcQueens Theatre – 4 Coburg Road\, London N22 6UJ.
URL:https://www.collage-arts.org/event/slainte-theatre-presents-shepherds-warning-2/
LOCATION:McQueens Theatre\, 4 Coburg Rd\, London\, N22 6UJ\, United Kingdom
CATEGORIES:External Events,Theatre
ATTACH;FMTTYPE=image/webp:https://www.collage-arts.org/wp-content/uploads/2024/03/101983-17092095710717-m.webp
END:VEVENT
BEGIN:VEVENT
DTSTART;TZID=Europe/London:20240418T193000
DTEND;TZID=Europe/London:20240418T210000
DTSTAMP:20260421T170017
CREATED:20240319T131406Z
LAST-MODIFIED:20240319T131406Z
UID:4261-1713468600-1713474000@www.collage-arts.org
SUMMARY:Slainte! Theatre presents: Shepherd's Warning
DESCRIPTION:In the theatre. \nThu 18 April to Sun 21 April. Times: 7.30pm (Thu/Fri/Sat)\, 5pm (Sun). \nSHEPHERD’S WARNING explores identity\, class\, broken families\, and how – when life as we know it comes to an end – we’re forced to choose what really matters. Cassie\, Bethany and David are estranged siblings who were separated by the foster care system in Scotland. But\, after the sudden passing of their mother\, they’re thrown back into each other’s juxtaposing worlds. Whilst they are making up for lost time\, the climate clock is ticking faster than ever. Can the siblings reconcile before it’s too late? \nShepherd’s Warning by Kari Hall is Slàinte! Theatres debut production. Sláinte! Theatre is a London-based emerging theatre company which aims to tell authentic stories from Irish and Scottish Voices. We want to create a network for Irish and Scottish creatives in London\, and to nurture a community of Celtic artists. \nCast \nBethany Elle O’Hara Cassie Kari Hall David Ross Barbour Fraser Hamish Somers \nDirected by Will Byam-Shaw. Assistant Directed by Greta Rilletti-Zaltieri \nClick on the ‘Buy tickets’ link (above) to get your tickets on Ticket Source. \nMcQueens Theatre – 4 Coburg Road\, London N22 6UJ.
URL:https://www.collage-arts.org/event/slainte-theatre-presents-shepherds-warning/
LOCATION:McQueens Theatre\, 4 Coburg Rd\, London\, N22 6UJ\, United Kingdom
CATEGORIES:External Events,Theatre
ATTACH;FMTTYPE=image/webp:https://www.collage-arts.org/wp-content/uploads/2024/03/101983-17092095710717-m.webp
END:VEVENT
BEGIN:VEVENT
DTSTART;TZID=Europe/London:20240414T180000
DTEND;TZID=Europe/London:20240414T213000
DTSTAMP:20260421T170017
CREATED:20240312T150142Z
LAST-MODIFIED:20240313T122303Z
UID:4233-1713117600-1713130200@www.collage-arts.org
SUMMARY:Revolution
DESCRIPTION:A wonderful night of music and theatre to raise money for the Kieran Taylor Scholarship trust. \nWith guest appearances by: \nYebbz Ashanti \nRalph Davis \nJohn Etheridge \nPhilip Harper \nOli Higginson \nRio Kai \nCharlie Laffer \nMaggie Musgrove \nUK Soul Legend Omar \nSara Otung \nNardia Ruth \nCasper Senna \nMartina Laird \nVimala \nSheila Atim \nChe Walker \nSupported by DJ Dub. \nKaramel – 4 Coburg Road\, London N22 6UJ The Karamel vegan kitchen will be serving food from 1pm ’til 8pm. Email karamel8775@gmail.com to book a table.
URL:https://www.collage-arts.org/event/revolution-2/
LOCATION:Karamel N22\, 4 Coburg Rd\, Wood Green\, London\, N22 6UJ\, United Kingdom
CATEGORIES:External Events,Music
ATTACH;FMTTYPE=image/webp:https://www.collage-arts.org/wp-content/uploads/2024/03/2024-04-14-revolution-karamel.webp
END:VEVENT
BEGIN:VEVENT
DTSTART;TZID=Europe/London:20240413T190000
DTEND;TZID=Europe/London:20240414T000000
DTSTAMP:20260421T170017
CREATED:20240402T131610Z
LAST-MODIFIED:20240404T155218Z
UID:4284-1713034800-1713052800@www.collage-arts.org
SUMMARY:London Vegan Mixer
DESCRIPTION:MIXING TUNES\, COCKTAILS… AND VEGAN NOSH!\n\n\nfree entry · deejay set by Heavy Vibes · delicious food by Kath & Roger \nJoin us for a new dance night at Karamel Club\, where we’ll take over the entire venue – socialise in the restaurant area over food and drinks\, and join the dancing crowd in the back room whenever you’re ready for some groovy beats! \nTHE MUSIC\nAn eclectic mix of dance music across a broad spectrum including house\, rap\, pop\, drum and bass\, dubstep\, r’n’b and more. \nATTENDING\nEntry to the event is totally free\, but please do support the venue by buying food and/or drinks (both 100% vegan!). \nAll are welcome\, and we strive to make the event a safe and inclusive space for everyone – no discriminatory or abusive behaviour of any kind will be tolerated. \nACCESSIBILITY\nThe entrance to the venue is step-free and there is a wheelchair-accessible toilet.
URL:https://www.collage-arts.org/event/london-vegan-mixer/
LOCATION:McQueens Theatre\, 4 Coburg Rd\, London\, N22 6UJ\, United Kingdom
CATEGORIES:External Events,Music
ATTACH;FMTTYPE=image/png:https://www.collage-arts.org/wp-content/uploads/2024/04/Front-flyer-LVM.png
END:VEVENT
BEGIN:VEVENT
DTSTART;TZID=Europe/London:20240316T190000
DTEND;TZID=Europe/London:20240316T220000
DTSTAMP:20260421T170017
CREATED:20240312T105838Z
LAST-MODIFIED:20240312T105838Z
UID:4203-1710615600-1710626400@www.collage-arts.org
SUMMARY:NTYM presents: 90s night
DESCRIPTION:Join us for a one-night-only ’90s Night Party!! Experience live music\, karaoke\, and a chance to win ’90s goodies. Save the date\, gather your friends. \nStep into the nostalgic groove at “The NTYM 90s Night”! \nBelt it out with karaoke\, groove to live tunes\, and soak up the good vibes with our laid-back host. Sip on cool drinks\, share laughs\, and party like its 1999. \nDefinitely not one to miss 🌟 \nWith a Bar and refreshments \nVenue: Karamel\, 4 Coburg Road\, Wood Green N22 6UJ
URL:https://www.collage-arts.org/event/ntym-presents-90s-night/
LOCATION:Karamel N22\, 4 Coburg Rd\, Wood Green\, London\, N22 6UJ\, United Kingdom
CATEGORIES:External Events,Music
ATTACH;FMTTYPE=image/jpeg:https://www.collage-arts.org/wp-content/uploads/2024/03/https___cdn.evbuc_.com_images_701000469_1677147865073_1_original.jpg
END:VEVENT
BEGIN:VEVENT
DTSTART;TZID=Europe/London:20240229T190000
DTEND;TZID=Europe/London:20240229T210000
DTSTAMP:20260421T170017
CREATED:20240213T135017Z
LAST-MODIFIED:20240213T135017Z
UID:4180-1709233200-1709240400@www.collage-arts.org
SUMMARY:The Fun Screening 2
DESCRIPTION:In the Theatre \nA poetic myth. A joke gone too far. An explosive political awakening. A bonding moment interrupted in medieval fashion. All this and more featured in The Fun Screening part 2! \nFollowing suit from the screening in December 2022\, The Fun Screening 2 is a showcase of short films produced by a collection of young\, talented artists and filmmakers. Ranging from folk horror to familial comedy\, experimental dance to night time thriller\, each film has been independently produced and finds its own unique genre and style. Join us in celebration and support for this fresh and vibrant collection of short films. \nDoors open 7pm. \nKaramel – McQueens Theatre\, 4 Coburg Road\, London N22 6UJ.
URL:https://www.collage-arts.org/event/the-fun-screening-2/
LOCATION:McQueens Theatre\, 4 Coburg Rd\, London\, N22 6UJ\, United Kingdom
CATEGORIES:External Events,Theatre
ATTACH;FMTTYPE=image/webp:https://www.collage-arts.org/wp-content/uploads/2024/02/2024-02-29-the-fun-screening-2-mcqueens-theatre.webp
END:VEVENT
BEGIN:VEVENT
DTSTART;TZID=Europe/London:20240224T190000
DTEND;TZID=Europe/London:20240225T000000
DTSTAMP:20260421T170017
CREATED:20240210T153335Z
LAST-MODIFIED:20240210T153335Z
UID:4170-1708801200-1708819200@www.collage-arts.org
SUMMARY:LOT Networking & Performance
DESCRIPTION:Come join our First Loads of Talent networking event of 2024. \nWe are putting on a night of incredible live performances from singers\, spoken word artists and rappers all on the 24th February. Hosted by Charlie Pope. \nWe will also have some vendors from independent businesses and art displays by talented artists. \nWe are also have alocated time for an open mic. So if you have a talent… grab a ticket. We wanna see what your made of. \nA place to meet like minded people and thrive in a creative setting.\nWe will have interactive fun games throughout the night to keep people mixing and getting to know each other. \nYou won’t want to miss this! \nMore info on our talent will be revealed on instagram on 01/02/2024 so make sure you follow up! @loteventsco \nMore: \n\n18+\nVenue sells food\, soft drinks and alcohol.\n8 minute walk from Wood Green station.\n\n  \n  \n( Externel Event taking place in Karamel! )
URL:https://www.collage-arts.org/event/lot-networking-performance/
LOCATION:Karamel N22\, 4 Coburg Rd\, Wood Green\, London\, N22 6UJ\, United Kingdom
CATEGORIES:External Events
ATTACH;FMTTYPE=image/jpeg:https://www.collage-arts.org/wp-content/uploads/2024/02/https___cdn.evbuc_.com_images_681965889_1974846036463_1_original.jpg
END:VEVENT
END:VCALENDAR